Workbook

Sheet INSERT HERE
B1: COPY THIS DOC!! GO TO FILE>MAKE A COPY - SO YOU CAN FILL IN YOUR INFORMATION
B2: FILL IN THE BRIGHT ORANGE SQUARES took me a minute to understand what this was - how about 'please answer the following - put your answer in the orange box
B3: BASE DESIGN
B4: How many feet is the LONG side of your park?
B5: 27
B6: How many feet is the SHORT side of your park?
B7: 56
B8: How many squares of planting (green squares) do you have?
B9: 7
B10: If you have a Nature Play area, how many squares do you have?
B11: 0
B14: LAYOUT MATERIALS | C14: SUB-TOTAL | F14: ='QUANTITES PER ITEM'!M15 -> 191.6
B15: SOIL | C15: SUB-TOTAL | F15: ='QUANTITES PER ITEM'!M22 -> 149.66667
B16: GRAVEL | C16: SUB-TOTAL | F16: ='QUANTITES PER ITEM'!M31 -> 1555 | H16: =sum(F16+F15+F14) -> 1896.2667
B17: PLAY AREA | C17: SUB-TOTAL | F17: ='QUANTITES PER ITEM'!M35 -> 0
B18: EDGING
B19: Tally your edges around gravel in feet (Hint each square is 4') | F19: 0 | H19: CALCULATE 1 SIDE OF A SQUARE TO FEET
C20: Of the total, how many are on top of hardscape (concrete, asphalt, ect?) | F20: 0 | H20: THIS CALCULATOR JUST MULTIPLIES BY 4 IF YOU WANT TO JUST COUNT UP HOW MANY 4' SECTIONS YOU HAVE
C21: Of the total, how many are on top of softscape (earth, soil) | F21: 0 | H21: ENTER NUMBER OF 4' SECTIONS | I21: TOTAL FEET
C22: SUB-TOTAL | F22: ='QUANTITES PER ITEM'!M74 -> 0 | H22: 4 | I22: =H22*4 -> 16
B23: Tally the outside edges of your park, of gravel or planting, you don't have a building or a gabion edge in feet | F23: 0
C24: Of the total, how many are on top of hardscape (concrete, asphalt, ect?) | F24: 0
C25: Of the total, how many are on top of softscape (earth, soil) | F25: 0
C26: How many times do these edges connect to a gabion? | F26: 0
C27: SUB-TOTAL | F27: ='QUANTITES PER ITEM'!M87 -> 0
B29: HOW MANY PLANTS DO YOU HAVE?
B30: PERENNIALS | C30: =B9*4 -> 28 | D30: ='QUANTITES PER ITEM'!J39 -> 28 | E30: ='QUANTITES PER ITEM'!K39 -> EA | F30: ='QUANTITES PER ITEM'!M39 -> 280
B31: SHRUBS | C31: 10 | D31: ='QUANTITES PER ITEM'!J40 -> 10 | E31: ='QUANTITES PER ITEM'!K40 -> EA | F31: ='QUANTITES PER ITEM'!M40 -> 500
B32: TREES- SM | C32: 2 | D32: ='QUANTITES PER ITEM'!J41 -> 2 | E32: ='QUANTITES PER ITEM'!K41 -> EA | F32: ='QUANTITES PER ITEM'!M41 -> 200
B33: TREES- LG | C33: 0 | D33: ='QUANTITES PER ITEM'!J42 -> 0 | E33: ='QUANTITES PER ITEM'!K42 -> EA | F33: ='QUANTITES PER ITEM'!M42 -> 0
C34: SUB-TOTAL | F34: ='QUANTITES PER ITEM'!M43 -> 980
B36: HOW MANY 1' GABION BASKETS DO YOU HAVE?
B37: 0
B38: GABION BASKETS
B39: MATERIAL | D39: QUANTITY | E39: UNIT | F39: COST
B40: ='QUANTITES PER ITEM'!B49 -> 1'x1'x4' 5 gauge BASKETS | D40: ='QUANTITES PER ITEM'!J49 -> 0 | E40: ='QUANTITES PER ITEM'!K49 -> EA | F40: ='QUANTITES PER ITEM'!L49 -> 70
B41: ='QUANTITES PER ITEM'!B50 -> 1-3" Stone Fill | D41: ='QUANTITES PER ITEM'!J50 -> 0 | E41: ='QUANTITES PER ITEM'!K50 -> TONS | F41: ='QUANTITES PER ITEM'!L50 -> 52.5
C42: SUB-TOTAL | F42: ='QUANTITES PER ITEM'!M54 -> 0
B43: Do you have raised beds?
B44: How many feet are your wood edges? | F44: 0
...

Sheet ORDER LIST
B1: ORDER LIST
B2: ITEM | D2: QUANTITY | E2: UNIT | F2: SPECIFICATIONS/ORDERING LINK | G2: DELIVERY TIME | H2: ORDERED? | I2: ALTERNATIVE | N2: UNIT COST | O2: TOTAL COST
A3: PHASE | B3: NOTES | D3: Under the "Quantities per item tab" you can find alternate units for your quantities | F3: You do not have to use this product, but this is the suggested thing to order. It will provide you with more detail about the product, if you want to purchase it elsewhere | G3: Delivery time if ordered online or in store. Most items can be purchased elsewhere from home depot or lowes, etc. | I3: As an alternative to the first product/Notes
B4: LAYOUT + PROTECTION
A5: 1 | C5: ='QUANTITES PER ITEM'!B12 -> EROSION CONTROL | D5: =SUMIF('QUANTITES PER ITEM'!B1:B270,C5,'QUANTITES PER ITEM'!J1:J270) -> 2 | E5: ='QUANTITES PER ITEM'!K12 -> roll | F5: ='QUANTITES PER ITEM'!N12 -> LINK | G5: 4-7 Days | H5: FALSE
A6: 1 | C6: ='QUANTITES PER ITEM'!B13 -> STAKES | D6: =SUMIF('QUANTITES PER ITEM'!B1:B270,C6,'QUANTITES PER ITEM'!J1:J270) -> 3.024 | E6: ='QUANTITES PER ITEM'!K13 -> package | F6: ='QUANTITES PER ITEM'!N13 -> https://www.amazon.com/Kitzmans-Dixon-Grade-Survey-Stakes/dp/B000CSIHWI/ref=asc_df_B000CSIHWI/?tag=hyprod-20&linkCode=df0&hvadid=279210092112&hvpos=&hvnetw=g&hvrand=8907831315522917541&hvpone=&hvptwo=&hvqmt=&hvdev=c&hvdvcmdl=&hvlocint=&hvlocphy=9007393&hvtargid=pla-643045917054&th=1 | G6: 2-3 Days | H6: FALSE | N6: ='QUANTITES PER ITEM'!L13 -> 25 | O6: =D6*N6 -> 75.6
A7: 1 | C7: ='QUANTITES PER ITEM'!B14 -> MARKING PAINT | D7: =SUMIF('QUANTITES PER ITEM'!B1:B270,C7,'QUANTITES PER ITEM'!J1:J270) -> 2 | E7: ='QUANTITES PER ITEM'!K14 -> can | F7: https://www.amazon.com/Rust-Oleum-266574-Professional-Distance-Fluorescent/dp/B00IA8O21W/ref=asc_df_B00IA8O21W/?tag=hyprod-20&linkCode=df0&hvadid=216767879473&hvpos=&hvnetw=g&hvrand=6220702830202734615&hvpone=&hvptwo=&hvqmt=&hvdev=c&hvdvcmdl=&hvlocint=&hvlocphy=9007393&hvtargid=pla-354172705122&psc=1 | G7: 2-3 Days | H7: FALSE | I7: As an alternative to the first product/Notes | N7: ='QUANTITES PER ITEM'!L14 -> 8 | O7: =D7*N7 -> 16
B8: ='INSERT HERE'!B15 -> SOIL
B9: TIP: This is a suggested quantity, you can always talk to the supplier to confirm the material and quantity fit your site. Under the "Quantities per item tab" you can find alternate units for your quantities
A10: 4 | C10: ='QUANTITES PER ITEM'!B19 -> SOIL | D10: =SUMIF('QUANTITES PER ITEM'!B1:B388,C10,'QUANTITES PER ITEM'!J1:J388) -> 3 | E10: ='QUANTITES PER ITEM'!K19 -> CY | F10: https://www.underdogsupply.com/ | G10: Varies | H10: FALSE | I10: Note: This will likely need to be delivered on a truck, be sure to coordinate and ask when ordering what access the truck will need | N10: ='QUANTITES PER ITEM'!L19 -> 35 | O10: =D10*N10 -> 105 | P10: ='QUANTITES PER ITEM'!O19
A11: 5 | C11: ='QUANTITES PER ITEM'!B20 -> MULCH | D11: =SUMIF('QUANTITES PER ITEM'!B2:B389,C11,'QUANTITES PER ITEM'!J2:J389) -> 1 | E11: ='QUANTITES PER ITEM'!K20 -> CY | F11: https://delcomulch.com/ | G11: Varies | H11: FALSE | N11: ='QUANTITES PER ITEM'!L20 -> 28 | O11: =D11*N11 -> 28
E12: ='QUANTITES PER ITEM'!K21 | N12: ='QUANTITES PER ITEM'!L21 -> 75
B13: Gravel
B14: TIP: This is a suggested quantity, you can always talk to the supplier to confirm the material and quantity fit your site. Under the 'Quantities per item' tab, you can find alternate units for your quantities
A15: 3 | C15: ='QUANTITES PER ITEM'!B26 -> 3/8" Red Tipple | D15: =SUMIF('QUANTITES PER ITEM'!B3:B390,C15,'QUANTITES PER ITEM'!J3:J390) -> 14 | E15: ='QUANTITES PER ITEM'!K26 -> TONS | F15: ='QUANTITES PER ITEM'!O26 -> https://www.ds-supply.com/ | G15: 4-5 Days | H15: FALSE | I15: ASK TEDDY ABOUT WHAT PRODUCT HE ORDERED | N15: ='QUANTITES PER ITEM'!L26 -> 52.5 | O15: =D15*N15 -> 735
A16: 2 | C16: ='QUANTITES PER ITEM'!B27 -> 3/4" Clean Stone agg base | D16: =SUMIF('QUANTITES PER ITEM'!B4:B391,C16,'QUANTITES PER ITEM'!J4:J391) -> 14 | E16: ='QUANTITES PER ITEM'!K27 -> TONS | F16: ='QUANTITES PER ITEM'!O27 -> https://www.ds-supply.com/ | G16: 4-5 Days | H16: FALSE | I16: Or clean gravel | N16: ='QUANTITES PER ITEM'!L27 -> 35 | O16: =D16*N16 -> 490
A17: 2 | C17: ='QUANTITES PER ITEM'!B28 -> Filter Fabric | D17: =SUMIF('QUANTITES PER ITEM'!B5:B392,C17,'QUANTITES PER ITEM'!J5:J392) -> 4 | E17: ='QUANTITES PER ITEM'!K28 -> ROLL | F17: ='QUANTITES PER ITEM'!N28 -> https://www.amazon.com/dp/B079Y869N5?ref_=cm_sw_r_cp_ud_dp_7E3RTBEWEQ28XYW1J3ZY | G17: 4-5 Days | H17: FALSE | N17: ='QUANTITES PER ITEM'!L28 -> 50 | O17: =D17*N17 -> 200 | P17: SUB TOTAL
A18: 2 | C18: ='QUANTITES PER ITEM'!B29 -> 3.5" Staples | D18: =SUMIF('QUANTITES PER ITEM'!B6:B393,C18,'QUANTITES PER ITEM'!J7:J393) -> 1 | E18: ='QUANTITES PER ITEM'!K29 -> BOX | F18: ='QUANTITES PER ITEM'!N29 -> https://www.amazon.com/100-Pack-Galvanized-Staples-Securing-Landscape/dp/B073F1VMHS/ref=asc_df_B073F1VMHS/?tag=hyprod-20&linkCode=df0&hvadid=216532910363&hvpos=&hvnetw=g&hvrand=1720232130021358387&hvpone=&hvptwo=&hvqmt=&hvdev=c&hvdvcmdl=&hvlocint=&hvlocphy=9007393&hvtargid=pla-370528591821&psc=1 | G18: 4-5 Days | H18: FALSE | N18: ='QUANTITES PER ITEM'!L29 -> 20 | O18: =D18*N18 -> 20 | P18: =sum(O6:O18)+175 -> 1844.6
B19: Gabion Baskets | I19: Gabion Wire (to be cut by distributor) | O19: =D19*N19 -> 0
A20: 1 | C20: ='QUANTITES PER ITEM'!B49 -> 1'x1'x4' 5 gauge BASKETS | D20: =SUMIF('QUANTITES PER ITEM'!B1:B394,C20,'QUANTITES PER ITEM'!J1:J394) -> 0 | E20: ='QUANTITES PER ITEM'!K49 -> EA | F20: ='QUANTITES PER ITEM'!N49 -> https://gabion1.com/product/12-high-x-12-thick/ | G20: 2-3 weeks | H20: FALSE | I20: https://catalog.darbywiremesh.com/category/plain-steel-mesh-by-mesh-count | J20: 2"x2" | K20: 4'-10' Sheets | L20: .16"-.19" dia | M20: Welded | N20: 70 | O20: =D20*N20 -> 0
A21: 1 | C21: 2'x18"x4' 5 gauge Gabion Basket | D21: =SUMIF('QUANTITES PER ITEM'!B2:B395,C21,'QUANTITES PER ITEM'!J2:J395) -> 0 | E21: EA | F21: https://gabion1.com/custom-price/ | G21: 2-3 weeks | H21: FALSE | I21: Product: | J21: https://catalog.darbywiremesh.com/item/plain-steel-mesh-by-mesh-count/plain-steel-wire-mesh-4-x-4-opening-to-1-x-1/2-ps-187wd | N21: 120 | O21: =D21*N21 -> 0 | P21: SUB TOTAL
A22: 1 | C22: Gabion 18x24x24 | D22: =SUMIF('QUANTITES PER ITEM'!B3:B396,C22,'QUANTITES PER ITEM'!J3:J396) -> 0 | E22: EA | F22: https://gabion1.com/custom-price/ | G22: 2-3 weeks | H22: FALSE | N22: 150 | O22: =D22*N22 -> 0
A23: 2 | C23: ='QUANTITES PER ITEM'!B50 -> 1-3" Stone Fill | D23: =SUMIF('QUANTITES PER ITEM'!B2:B395,C23,'QUANTITES PER ITEM'!J2:J395) -> 2 | E23: ='QUANTITES PER ITEM'!K50 -> TONS | F23: https://www.ds-supply.com/ | G23: 4-5 days | H23: FALSE | I23: Gather as much concrete pieces as possible on site/nearby | J23: ='QUANTITES PER ITEM'!C181 -> 32 | K23: CF | L23: =J23/0.5 -> 64 | N23: ='QUANTITES PER ITEM'!L50 -> 52.5 | O23: =D23*N23 -> 105 | P23: =P18+Sum(O20:O23)+'INSERT HERE'!F34 -> 2929.6
B24: Wood Edging | O24: =D24*N24 -> 0
B27: Wood for Furnishings | O27: =D27*N27 -> 0
B28: TIP: ORDER ALL YOUR WOOD FROM HOME DEPOT OR LOWES, ETC. AND HAVE IT DELIVERED
C29: 2x4x8 | D29: =SUMIF('QUANTITES PER ITEM'!B11:B403,C29,'QUANTITES PER ITEM'!J11:J403) -> 36 | E29: ='QUANTITES PER ITEM'!K102 -> ea. | F29: https://www.homedepot.com/p/2-in-x-4-in-x-8-ft-2-Ground-Contact-Pressure-Treated-Lumber-106147/206970948 | G29: 1-3 weeks | H29: FALSE | N29: 5 | O29: =D29*N29 -> 180
C30: 2x4x12 | D30: =SUMIF('QUANTITES PER ITEM'!B14:B405,C30,'QUANTITES PER ITEM'!J14:J405) -> 54 | E30: ='QUANTITES PER ITEM'!K103 -> ea. | F30: https://www.homedepot.com/p/WeatherShield-2-in-x-4-in-x-10-ft-2-Prime-Ground-Contact-Pressure-Treated-Lumber-253920/206967803 | G30: 1-3 weeks | H30: FALSE | N30: 10 | O30: =D30*N30 -> 540
C31: 1x6x8 | D31: =SUMIF('QUANTITES PER ITEM'!B13:B404,C31,'QUANTITES PER ITEM'!J13:J404) -> 0 | E31: ea. | F31: https://www.homedepot.com/p/WeatherShield-1-in-x-6-in-x-8-ft-Ground-Contact-Pressure-Treated-Board-253935/206974075 | G31: 1-3 weeks | H31: FALSE | N31: 8 | O31: =D31*N31 -> 0
C32: 1x6x12 | D32: =SUMIF('QUANTITES PER ITEM'!B14:B405,C32,'QUANTITES PER ITEM'!J14:J405) -> 0 | E32: ea. | F32: https://www.lowes.com/pd/Severe-Weather-Common-1-in-x-6-in-x-12-ft-Actual-0-75-in-x-5-5-in-x-12-ft-2/4564830?cm_mmc=shp-_-c-_-prd-_-lum-_-ggl-_-LIA_LUM_162_Treated-Lumber-And-Decking-Components-_-4564830-_-local-_-0-_-0&gclid=Cj0KCQjwmouZBhDSARIsALYcouomvDeqxsD6fDlOB-K_DGeRmSPiRgJDe0KPbhEA7TWRdGop7v4SxFYaAtPOEALw_wcB&gclsrc=aw.ds | G32: 1-3 weeks | H32: FALSE | N32: 10 | O32: =D32*N32 -> 0
B33: WIRE
C34: 48"x22" | D34: =SUMIF('QUANTITES PER ITEM'!B20:B411,C34,'QUANTITES PER ITEM'!J20:J411) -> 0 | E34: ea. | F34: https://catalog.darbywiremesh.com/category/plain-steel-mesh-by-mesh-count
C35: 48"x10" | D35: =SUMIF('QUANTITES PER ITEM'!B17:B409,C35,'QUANTITES PER ITEM'!J17:J409) -> 0 | E35: ea. | F35: https://catalog.darbywiremesh.com/category/plain-steel-mesh-by-mesh-count
C36: 22"x10" | D36: =SUMIF('QUANTITES PER ITEM'!B19:B410,C36,'QUANTITES PER ITEM'!$J$19:$J$410) -> 0 | E36: ea. | F36: https://catalog.darbywiremesh.com/category/plain-steel-mesh-by-mesh-count
C37: 48"x34" | D37: =SUMIF('QUANTITES PER ITEM'!B20:B411,C37,'QUANTITES PER ITEM'!$J$19:$J$410) -> 0 | E37: ea. | F37: https://catalog.darbywiremesh.com/category/plain-steel-mesh-by-mesh-count
C38: 22"x34" | D38: =SUMIF('QUANTITES PER ITEM'!B21:B412,C38,'QUANTITES PER ITEM'!$J$19:$J$410) -> 0 | E38: ea. | F38: https://catalog.darbywiremesh.com/category/plain-steel-mesh-by-mesh-count
C39: 22"x22" | D39: =SUMIF('QUANTITES PER ITEM'!B10:B413,C39,'QUANTITES PER ITEM'!$J$10:$J$410) -> 4 | E39: ea. | F39: https://catalog.darbywiremesh.com/category/plain-steel-mesh-by-mesh-count
C40: 22"x24" | D40: =SUMIF('QUANTITES PER ITEM'!B11:B414,C40,'QUANTITES PER ITEM'!$J$10:$J$410) -> 4 | E40: ea. | F40: https://catalog.darbywiremesh.com/category/plain-steel-mesh-by-mesh-count
C41: 48"x18" | D41: =SUMIF('QUANTITES PER ITEM'!B12:B415,C41,'QUANTITES PER ITEM'!$J$10:$J$410) -> 0 | E41: ea. | F41: https://catalog.darbywiremesh.com/category/plain-steel-mesh-by-mesh-count
C42: 18"x18" | D42: =SUMIF('QUANTITES PER ITEM'!B13:B416,C42,'QUANTITES PER ITEM'!$J$10:$J$410) -> 0 | E42: ea. | F42: https://catalog.darbywiremesh.com/category/plain-steel-mesh-by-mesh-count | O42: =D42*N42 -> 0
...

Sheet QUANTITES PER ITEM
D2: NUMBER NEEDED | F2: DEPTH | G2: CF | H2: CY | I2: TONS | J2: UNIT OF MEASURE | K2: UNIT USED | L2: UNIT COST | M2: TOTALS
B3: LENGTH | C3: ='INSERT HERE'!B5 -> 27
B4: WIDTH | C4: ='INSERT HERE'!B7 -> 56
B5: AREA | C5: =C3*C4 -> 1512
B6: GREEN AREA | C6: ='INSERT HERE'!B9*4*4 -> 112
B7: PLAY AREA | C7: ='INSERT HERE'!B11*4*4 -> 0
B9: STAGING
B10: SQUARES | C10: AREA
B11: =C11/4 -> 378 | C11: =C5 -> 1512
B12: EROSION CONTROL | C12: =C3*2+C4*2 -> 166 | J12: =roundup(C12/100,0) -> 2 | K12: roll | L12: 50 | M12: =L12*J12 -> 100 | N12: LINK
B13: STAKES | C13: =B11/5 -> 75.6 | D13: =C13/25 -> 3.024 | J13: =D13 -> 3.024 | K13: package | L13: 25 | M13: =L13*J13 -> 75.6 | N13: https://www.amazon.com/Kitzmans-Dixon-Grade-Survey-Stakes/dp/B000CSIHWI/ref=asc_df_B000CSIHWI/?tag=hyprod-20&linkCode=df0&hvadid=279210092112&hvpos=&hvnetw=g&hvrand=8907831315522917541&hvpone=&hvptwo=&hvqmt=&hvdev=c&hvdvcmdl=&hvlocint=&hvlocphy=9007393&hvtargid=pla-643045917054&th=1
B14: MARKING PAINT | C14: =C11 -> 1512 | D14: =Roundup(C14/1000,0) -> 2 | J14: =D14 -> 2 | K14: can | L14: 8 | M14: =L14*J14 -> 16
J15: SUB-TOTAL | M15: =SUM(M11:M14) -> 191.6
B16: SOIL
B17: SQUARES | C17: AREA
B18: ='INSERT HERE'!B9 -> 7 | C18: =B18*4*4 -> 112
A19: 6" | B19: SOIL | C19: =C18 -> 112 | E19: SF | F19: 0.5 | G19: =SUM(C19*F19) -> 56 | H19: =SUM(G19/27) -> 2.0740741 | J19: =ROUNDUP(H19,0) -> 3 | K19: CY | L19: 35 | M19: =L19*J19 -> 105 | N19: https://mulchexpresslandscapesupply.com/
A20: 2" | B20: MULCH | C20: =C18 -> 112 | E20: SF | F20: 0.18 | G20: =SUM(C20*F20) -> 20.16 | H20: =SUM(G20/27) -> 0.74666667 | J20: =ROUNDUP(H20,0) -> 1 | K20: CY | L20: 28 | M20: =L20*J20 -> 28 | N20: https://www.lowes.com/pd/0-5-Cubic-yard-s-species-Shredded-Bulk-Mulch/5001761155?cm_mmc=shp-_-c-_-prd-_-lwn-_-ggl-_-LIA_LWN_179_Landscape-Products-_-5001761155-_-local-_-0-_-0&ds_rl=1286981&gclid=CjwKCAjw4ayUBhA4EiwATWyBrmpjft2geXcr_GbgAuZdYUUlKXKQEUDcr0Y6XsMnQlH_pEXriwpSuxoCRF0QAvD_BwE&gclsrc=aw.ds
B21: DELIVERY | C21: =(J20+J19)/18 -> 0.22222222 | J21: =H21 | L21: 75 | M21: =L21*C21 -> 16.666667 | N21: https://mulchexpresslandscapesupply.com/
J22: SUB-TOTAL | M22: =SUM(M19:M21) -> 149.66667
B23: GRAVEL
B24: SQUARES | C24: AREA
B25: =C25/16 -> 94.5 | C25: ='INSERT HERE'!B5*'INSERT HERE'!B7 -> 1512 | N25: UNLINKED!!
B26: 3/8" Red Tipple | C26: =C25 -> 1512 | E26: SF | F26: 0.17 | G26: =SUM(C25*F26) -> 257.04 | H26: =SUM(G26/27) -> 9.52 | I26: =H26*1.4 -> 13.328 | J26: =ROUNDUP(I26,0) -> 14 | K26: TONS | L26: 52.5 | M26: =L26*J26 -> 735 | N26: 2in | O26: https://www.ds-supply.com/ | P26: ALT: | Q26: https://mulchexpresslandscapesupply.com/
B27: 3/4" Clean Stone agg base | C27: =C25 -> 1512 | E27: SF | F27: 0.17 | G27: =SUM(C25*F27) -> 257.04 | H27: =SUM(G27/27) -> 9.52 | I27: =H27*1.4 -> 13.328 | J27: =ROUNDUP(I27,0) -> 14 | K27: TONS | L27: 35 | M27: =L27*J27 -> 490 | N27: 2in | O27: https://www.ds-supply.com/ | P27: ALT: | Q27: https://mulchexpresslandscapesupply.com/
B28: Filter Fabric | C28: =C25 -> 1512 | E28: SF | J28: =ROUNDUP(C28/400,0) -> 4 | K28: ROLL | L28: 50 | M28: =L28*J28 -> 200 | N28: https://www.amazon.com/dp/B079Y869N5?ref_=cm_sw_r_cp_ud_dp_7E3RTBEWEQ28XYW1J3ZY
B29: 3.5" Staples | C29: =C25*0.2 -> 302.4 | E29: STAPLES | J29: =ROUNDUP(C29/100,0) -> 4 | K29: BOX | L29: 20 | M29: =L29*J29 -> 80 | N29: https://www.amazon.com/100-Pack-Galvanized-Staples-Securing-Landscape/dp/B073F1VMHS/ref=asc_df_B073F1VMHS/?tag=hyprod-20&linkCode=df0&hvadid=216532910363&hvpos=&hvnetw=g&hvrand=1720232130021358387&hvpone=&hvptwo=&hvqmt=&hvdev=c&hvdvcmdl=&hvlocint=&hvlocphy=9007393&hvtargid=pla-370528591821&psc=1
B30: DELIVERY | H30: =SUM(H26:H27) -> 19.04 | J30: =ROUNDUP(H30/24,0) -> 1 | K30: TRIP | L30: 50 | M30: =L30*J30 -> 50 | N30: https://www.ds-supply.com/ | O30: ALT: | P30: https://mulchexpresslandscapesupply.com/
J31: SUB-TOTAL | M31: =SUM(M25:M30) -> 1555
B32: PLAY AREA
B33: SQUARES | C33: AREA
B34: =C7/16 -> 0 | C34: =C7 -> 0
A35: 4" | B35: MULCH | C35: =C34 -> 0 | E35: SF | F35: 0.33 | G35: =SUM(C35*F35) -> 0 | H35: =SUM(G35/27) -> 0 | J35: =ROUNDUP(H35,0) -> 0 | K35: CY | L35: 28 | M35: =L35*J35 -> 0 | N35: https://www.lowes.com/pd/0-5-Cubic-yard-s-species-Shredded-Bulk-Mulch/5001761155?cm_mmc=shp-_-c-_-prd-_-lwn-_-ggl-_-LIA_LWN_179_Landscape-Products-_-5001761155-_-local-_-0-_-0&ds_rl=1286981&gclid=CjwKCAjw4ayUBhA4EiwATWyBrmpjft2geXcr_GbgAuZdYUUlKXKQEUDcr0Y6XsMnQlH_pEXriwpSuxoCRF0QAvD_BwE&gclsrc=aw.ds
B38: PLANTING
B39: PERRENIALS | C39: ='INSERT HERE'!C30 -> 28 | E39: EA | J39: =C39 -> 28 | K39: =E39 -> EA | L39: 10 | M39: =L39*J39 -> 280
B40: SHRUBS | C40: ='INSERT HERE'!C31 -> 10 | E40: EA | J40: =C40 -> 10 | K40: =E40 -> EA | L40: 50 | M40: =L40*J40 -> 500
B41: TREES- SM | C41: ='INSERT HERE'!C32 -> 2 | E41: EA | J41: =C41 -> 2 | K41: =E41 -> EA | L41: 100 | M41: =L41*J41 -> 200
B42: TREES- LG | C42: ='INSERT HERE'!C33 -> 0 | E42: EA | J42: =C42 -> 0 | K42: =E42 -> EA | L42: 75 | M42: =L42*J42 -> 0
J43: SUB-TOTAL | M43: =SUM(M39:M42) -> 980
B46: GABIONS -12" x 12" x 4'-0"
...

Sheet MATERIAL CALCULATIONS
B2: LENGTH | C2: WIDTH | D2: HEIGHT | E2: NUMBER | F2: TOTAL LENGTH | G2: WIDTH
A3: 4' | B3: 17.5" GABION x 22
A4: SIDES LONG | B4: 48 | C4: 16 | E4: 2
A5: BOTTOM | B5: 48 | C5: 22 | E5: 1 | K5: NOTE: DARBY WIRE - Tell them CLOSED EDGES, or closed pieces
A6: SIDES SHORT | B6: 16 | C6: 22 | E6: 2 | K6: sales@darbywiremesh.com
A7: 2x4x8 | E7: 2
A9: 4' | B9: 23.5" GABION x 22
A10: SIDES LONG | B10: 48 | C10: 22 | E10: 2
A11: BOTTOM | B11: 48 | C11: 22 | E11: 1
A12: SIDES SHORT | B12: 22 | C12: 22 | E12: 2
A13: 2x4x8 | E13: 2
A15: 4' | B15: 11.5" GABION x 22
A16: SIDES LONG | B16: 48 | C16: 10 | E16: 2
A17: BOTTOM | B17: 48 | C17: 22 | E17: 1
A18: SIDES SHORT | B18: 22 | C18: 10 | E18: 2
A19: 2x4x8 | E19: 2
A21: 4' | B21: 35.5" GABION x 22
A22: SIDES LONG | B22: 48 | C22: 34 | E22: 2
A23: BOTTOM | B23: 48 | C23: 22 | E23: 1
A24: SIDES SHORT | B24: 34 | C24: 22 | E24: 2
A25: 2x4x8 | E25: 2
A27: 8' | B27: 23.5" GABION x 22
A28: SIDES LONG | B28: 96 | C28: 22 | E28: 2
A29: BOTTOM | B29: 96 | C29: 22 | E29: 1
A30: SIDES SHORT | B30: 22 | C30: 22 | E30: 2
A31: 2x4x8 | E31: 3
B44: BENCH 4' with back and armrest
A46: LEGS | B46: 16.5 | C46: 4 | D46: 4 | E46: 4 | F46: =B46*E46 -> 66 | G46: 4x4
A47: LEG BRACE SIDES | B47: 16 | C47: 2 | D47: 4 | E47: 6 | F47: =B47*E47 -> 96 | G47: 2x4
A48: LEG BRACE BACK | B48: 42 | C48: 2 | D48: 4 | E48: 3 | F48: =B48*E48 -> 126
A49: LEG BRACE FRONT | B49: 45 | C49: 2 | D49: 4 | E49: 1 | F49: =B49*E49 -> 45
A50: SEAT | B50: 48 | C50: 2 | D50: 6 | E50: 2 | F50: =B50*E50 -> 96 | G50: 2X6X8
A51: SEAT | B51: 48 | C51: 2 | D51: 8 | E51: 1 | F51: =B51*E51 -> 48 | G51: 2X8X8
A52: ARMREST TOP | B52: 20 | C52: 2 | D52: 4 | E52: 2 | F52: =B52*E52 -> 40 | G52: 2X4X10
A53: ARMREST SUPPORT | B53: 7 | C53: 2 | D53: 4 | E53: 4 | F53: =B53*E53 -> 28 | G53: 2X4X10
A54: BACK | B54: 48 | C54: 2 | D54: 10 | E54: 1 | F54: =B54*E54 -> 48 | G54: 2X8X10 | H54: 0.5
B55: LUMBER NEEDED
B56: WxH | F56: TOTAL INCHES | G56: FEET | H56: /8 | I56: /10 | J56: /12 | K56: QTY | L56: LUMBER REQUIRED
B57: 4x4 | F57: =F46 -> 66 | G57: =F57/12 -> 5.5 | H57: =G57/8 -> 0.6875 | I57: =G57/10 -> 0.55 | J57: =G57/12 -> 0.45833333 | K57: 1 | L57: 4x4x6
B58: 2x10 | F58: =F54 -> 48 | G58: =F58/12 -> 4 | H58: =G58/8 -> 0.5 | I58: =G58/10 -> 0.4 | J58: =G58/12 -> 0.33333333 | K58: 0.5 | L58: 2x10x8
...

Sheet Sheet5
