Workbook

Sheet INSERT HERE
B1: COPY THIS DOC!! GO TO FILE>MAKE A COPY - SO YOU CAN FILL IN YOUR INFORMATION
B2: FILL IN THE BRIGHT ORANGE SQUARES took me a minute to understand what this was - how about 'please answer the following - put your answer in the orange box
B3: BASE DESIGN
B4: How many feet is the LONG side of your park?
B5: 27
B6: How many feet is the SHORT side of your park?
B7: 56
B8: How many squares of planting (green squares) do you have?
B9: 7
B10: If you have a Nature Play area, how many squares do you have?
B11: 0
B14: LAYOUT MATERIALS | C14: SUB-TOTAL | F14: ='QUANTITES PER ITEM'!M15 -> 191.6
B15: SOIL | C15: SUB-TOTAL | F15: ='QUANTITES PER ITEM'!M22 -> 149.66667
B16: GRAVEL | C16: SUB-TOTAL | F16: ='QUANTITES PER ITEM'!M31 -> 1555 | H16: =sum(F16+F15+F14) -> 1896.2667
B17: PLAY AREA | C17: SUB-TOTAL | F17: ='QUANTITES PER ITEM'!M35 -> 0
B18: EDGING
B19: Tally your edges around gravel in feet (Hint each square is 4') | F19: 0 | H19: CALCULATE 1 SIDE OF A SQUARE TO FEET
C20: Of the total, how many are on top of hardscape (concrete, asphalt, ect?) | F20: 0 | H20: THIS CALCULATOR JUST MULTIPLIES BY 4 IF YOU WANT TO JUST COUNT UP HOW MANY 4' SECTIONS YOU HAVE
C21: Of the total, how many are on top of softscape (earth, soil) | F21: 0 | H21: ENTER NUMBER OF 4' SECTIONS | I21: TOTAL FEET
C22: SUB-TOTAL | F22: ='QUANTITES PER ITEM'!M74 -> 0 | H22: 4 | I22: =H22*4 -> 16
B23: Tally the outside edges of your park, of gravel or planting, you don't have a building or a gabion edge in feet | F23: 0
C24: Of the total, how many are on top of hardscape (concrete, asphalt, ect?) | F24: 0
C25: Of the total, how many are on top of softscape (earth, soil) | F25: 0
C26: How many times do these edges connect to a gabion? | F26: 0
C27: SUB-TOTAL | F27: ='QUANTITES PER ITEM'!M87 -> 0
B29: HOW MANY PLANTS DO YOU HAVE?
B30: PERENNIALS | C30: =B9*4 -> 28 | D30: ='QUANTITES PER ITEM'!J39 -> 28 | E30: ='QUANTITES PER ITEM'!K39 -> EA | F30: ='QUANTITES PER ITEM'!M39 -> 280
B31: SHRUBS | C31: 10 | D31: ='QUANTITES PER ITEM'!J40 -> 10 | E31: ='QUANTITES PER ITEM'!K40 -> EA | F31: ='QUANTITES PER ITEM'!M40 -> 500
B32: TREES- SM | C32: 2 | D32: ='QUANTITES PER ITEM'!J41 -> 2 | E32: ='QUANTITES PER ITEM'!K41 -> EA | F32: ='QUANTITES PER ITEM'!M41 -> 200
B33: TREES- LG | C33: 0 | D33: ='QUANTITES PER ITEM'!J42 -> 0 | E33: ='QUANTITES PER ITEM'!K42 -> EA | F33: ='QUANTITES PER ITEM'!M42 -> 0
C34: SUB-TOTAL | F34: ='QUANTITES PER ITEM'!M43 -> 980
B36: HOW MANY 1' GABION BASKETS DO YOU HAVE?
B37: 0
B38: GABION BASKETS
B39: MATERIAL | D39: QUANTITY | E39: UNIT | F39: COST
B40: ='QUANTITES PER ITEM'!B49 -> 1'x1'x4' 5 gauge BASKETS | D40: ='QUANTITES PER ITEM'!J49 -> 0 | E40: ='QUANTITES PER ITEM'!K49 -> EA | F40: ='QUANTITES PER ITEM'!L49 -> 70
B41: ='QUANTITES PER ITEM'!B50 -> 1-3" Stone Fill | D41: ='QUANTITES PER ITEM'!J50 -> 0 | E41: ='QUANTITES PER ITEM'!K50 -> TONS | F41: ='QUANTITES PER ITEM'!L50 -> 52.5
C42: SUB-TOTAL | F42: ='QUANTITES PER ITEM'!M54 -> 0
B43: Do you have raised beds?
B44: How many feet are your wood edges? | F44: 0
B45: How many connections to gabions do you have? | F45: 0
C46: SUB-TOTAL | F46: ='QUANTITES PER ITEM'!M87 -> 0
B48: BASE DESIGN TOTAL | F48: =F46+F42+F34+F16+F15+F14+F22+F17+F27+F17 -> 2876.2667 | H48: =F48+'QUANTITES PER ITEM'!M93+'QUANTITES PER ITEM'!M94 -> 2876.2667
B50: FURNISHINGS
B51: HOW MANY 4' 18" WOOD TOPPED GABIONS DO YOU HAVE?
C53: SUB-TOTAL | F53: =#REF! -> #REF!
B54: HOW MANY WOOD BENCHES WITH BACKS AND ARMRESTS DO YOU HAVE?
C56: SUB-TOTAL | F56: ='QUANTITES PER ITEM'!M106 -> 0
B57: HOW MANY WOOD BENCHES WITH BACKS DO YOU HAVE?
B58: 0
C59: SUB-TOTAL | F59: ='QUANTITES PER ITEM'!M127 -> 0
B60: HOW MANY WOOD BENCHES WITHOUT BACKS DO YOU HAVE?
B61: 0
C62: SUB-TOTAL | F62: ='QUANTITES PER ITEM'!M138 -> 0
B63: HOW MANY SQUARE WOOD TABLES DO YOU HAVE?
C65: SUB-TOTAL | F65: ='QUANTITES PER ITEM'!M152 -> 0
B66: HOW MANY STOOLS DO YOU HAVE?
C68: SUB-TOTAL | F68: ='QUANTITES PER ITEM'!M165 -> 0
B69: HOW MANY WOOD TOPPED GABIONS TABLES DO YOU HAVE
B70: 4
C71: SUB-TOTAL | F71: ='QUANTITES PER ITEM'!M180
B72: HOW MANY SQUARES OF STAGE DO YOU HAVE?
B73: 0
C74: SUB-TOTAL | F74: ='QUANTITES PER ITEM'!M210 -> 0
B75: HOW MANY 12x8 TRELLIS DO YOU HAVE?
B77: 2
C78: SUB-TOTAL | F78: ='QUANTITES PER ITEM'!M228 -> 945.6
B80: BASE FURNISHINGS TOTAL | F80: =F68+F65+F59+F62+F56+F74+F78 -> 945.6 | H80: =F80+F48 -> 3821.8667
B83: ADDITIONAL FURNISHINGS
B84: THE FOLLOWING FURNISHINGS ARE OPTIONAL AND WILL BE AN APPROXIMATE OF COST, AND YOU WILL NOT BE BUILDING THESE BY INSTRUCTIONS WE PROVIDE. A COST ESTIMATE WILL BE PROVIDED, BUT THIS IS AN APPROXIMATE BASED ON A DESIGN NOT PROVIDED BY US.
B86: HOW MANY LONG TABLES DO YOU HAVE?
B87: 5
C88: SUB-TOTAL | F88: ='QUANTITES PER ITEM'!M234 -> 500
B89: HOW MANY COMPOST BINS DO YOU HAVE?
B90: 0
C91: SUB-TOTAL | F91: ='QUANTITES PER ITEM'!M245 -> 0
B92: HOW MANY KEYHOLE GARDENS DO YOU HAVE?
B93: LARGE | C93: MEDIUM | D93: SMALL
B94: 0 | C94: 0 | D94: 0
C95: SUB-TOTAL | F95: ='QUANTITES PER ITEM'!M260 -> 0
B97: ADDITIONAL FURNISHINGS TOTAL | F97: =F95+F91+F88 -> 500 | H97: =H80+F97 -> 4321.8667
B99: OFF THE SHELF FURNISHINGS
B100: THE FOLLOWING ITEMS ARE OFF-THE-SHELF ITEMS. WE WILL GIVE YOU AN ESTIMATED PRICE, AND A PLACE TO GET THESE ITEMS. HOWEVER, THEY ARE AN ESTIMATE. AND YOU CAN PURCHASE A DIFFERENT ITEM IF YOU WISH.
B102: HOW MANY SQUARES OF SHED DO YOU HAVE?
B103: 1 SQUARE (4'x4') | D103: 2 SQUARES (4'x8')
B104: 0
C105: SUB-TOTAL | F105: ='QUANTITES PER ITEM'!M266 -> 0
B106: HOW MANY CISTERNS DO YOU HAVE?
B107: 1 SQUARE (4'x4') | D107: 2 SQUARES (4'x8')
B108: 0 | D108: 0
C109: SUB-TOTAL | F109: 0
B110: HOW MANY RAIN BARRELLS DO YOU HAVE?
B111: 0
C112: SUB-TOTAL | F112: ='QUANTITES PER ITEM'!M268 -> 0 | G112: FREE!
B113: HOW MANY CAFE TABLES AND CHAIRS DO YOU HAVE?
B114: 0
C115: SUB-TOTAL | F115: 0
B116: HOW MANY SQUARES OF COLD FRAMES DO YOU HAVE?
B117: 0
C118: SUB-TOTAL | F118: ='QUANTITES PER ITEM'!M274 -> 0
...

Sheet ORDER LIST
B1: ORDER LIST
B2: ITEM | D2: QUANTITY | E2: UNIT | F2: SPECIFICATIONS/ORDERING LINK | G2: DELIVERY TIME | H2: ORDERED? | I2: ALTERNATIVE | N2: UNIT COST | O2: TOTAL COST
A3: PHASE | B3: NOTES | D3: Under the "Quantities per item tab" you can find alternate units for your quantities | F3: You do not have to use this product, but this is the suggested thing to order. It will provide you with more detail about the product, if you want to purchase it elsewhere | G3: Delivery time if ordered online or in store. Most items can be purchased elsewhere from home depot or lowes, etc. | I3: As an alternative to the first product/Notes
B4: LAYOUT + PROTECTION
A5: 1 | C5: ='QUANTITES PER ITEM'!B12 -> EROSION CONTROL | D5: =SUMIF('QUANTITES PER ITEM'!B1:B270,C5,'QUANTITES PER ITEM'!J1:J270) -> 2 | E5: ='QUANTITES PER ITEM'!K12 -> roll | F5: ='QUANTITES PER ITEM'!N12 -> LINK | G5: 4-7 Days | H5: FALSE
A6: 1 | C6: ='QUANTITES PER ITEM'!B13 -> STAKES | D6: =SUMIF('QUANTITES PER ITEM'!B1:B270,C6,'QUANTITES PER ITEM'!J1:J270) -> 3.024 | E6: ='QUANTITES PER ITEM'!K13 -> package | F6: ='QUANTITES PER ITEM'!N13 -> https://www.amazon.com/Kitzmans-Dixon-Grade-Survey-Stakes/dp/B000CSIHWI/ref=asc_df_B000CSIHWI/?tag=hyprod-20&linkCode=df0&hvadid=279210092112&hvpos=&hvnetw=g&hvrand=8907831315522917541&hvpone=&hvptwo=&hvqmt=&hvdev=c&hvdvcmdl=&hvlocint=&hvlocphy=9007393&hvtargid=pla-643045917054&th=1 | G6: 2-3 Days | H6: FALSE | N6: ='QUANTITES PER ITEM'!L13 -> 25 | O6: =D6*N6 -> 75.6
A7: 1 | C7: ='QUANTITES PER ITEM'!B14 -> MARKING PAINT | D7: =SUMIF('QUANTITES PER ITEM'!B1:B270,C7,'QUANTITES PER ITEM'!J1:J270) -> 2 | E7: ='QUANTITES PER ITEM'!K14 -> can | F7: https://www.amazon.com/Rust-Oleum-266574-Professional-Distance-Fluorescent/dp/B00IA8O21W/ref=asc_df_B00IA8O21W/?tag=hyprod-20&linkCode=df0&hvadid=216767879473&hvpos=&hvnetw=g&hvrand=6220702830202734615&hvpone=&hvptwo=&hvqmt=&hvdev=c&hvdvcmdl=&hvlocint=&hvlocphy=9007393&hvtargid=pla-354172705122&psc=1 | G7: 2-3 Days | H7: FALSE | I7: As an alternative to the first product/Notes | N7: ='QUANTITES PER ITEM'!L14 -> 8 | O7: =D7*N7 -> 16
B8: ='INSERT HERE'!B15 -> SOIL
B9: TIP: This is a suggested quantity, you can always talk to the supplier to confirm the material and quantity fit your site. Under the "Quantities per item tab" you can find alternate units for your quantities
A10: 4 | C10: ='QUANTITES PER ITEM'!B19 -> SOIL | D10: =SUMIF('QUANTITES PER ITEM'!B1:B388,C10,'QUANTITES PER ITEM'!J1:J388) -> 3 | E10: ='QUANTITES PER ITEM'!K19 -> CY | F10: https://www.underdogsupply.com/ | G10: Varies | H10: FALSE | I10: Note: This will likely need to be delivered on a truck, be sure to coordinate and ask when ordering what access the truck will need | N10: ='QUANTITES PER ITEM'!L19 -> 35 | O10: =D10*N10 -> 105 | P10: ='QUANTITES PER ITEM'!O19
A11: 5 | C11: ='QUANTITES PER ITEM'!B20 -> MULCH | D11: =SUMIF('QUANTITES PER ITEM'!B2:B389,C11,'QUANTITES PER ITEM'!J2:J389) -> 1 | E11: ='QUANTITES PER ITEM'!K20 -> CY | F11: https://delcomulch.com/ | G11: Varies | H11: FALSE | N11: ='QUANTITES PER ITEM'!L20 -> 28 | O11: =D11*N11 -> 28
E12: ='QUANTITES PER ITEM'!K21 | N12: ='QUANTITES PER ITEM'!L21 -> 75
B13: Gravel
B14: TIP: This is a suggested quantity, you can always talk to the supplier to confirm the material and quantity fit your site. Under the 'Quantities per item' tab, you can find alternate units for your quantities
A15: 3 | C15: ='QUANTITES PER ITEM'!B26 -> 3/8" Red Tipple | D15: =SUMIF('QUANTITES PER ITEM'!B3:B390,C15,'QUANTITES PER ITEM'!J3:J390) -> 14 | E15: ='QUANTITES PER ITEM'!K26 -> TONS | F15: ='QUANTITES PER ITEM'!O26 -> https://www.ds-supply.com/ | G15: 4-5 Days | H15: FALSE | I15: ASK TEDDY ABOUT WHAT PRODUCT HE ORDERED | N15: ='QUANTITES PER ITEM'!L26 -> 52.5 | O15: =D15*N15 -> 735
A16: 2 | C16: ='QUANTITES PER ITEM'!B27 -> 3/4" Clean Stone agg base | D16: =SUMIF('QUANTITES PER ITEM'!B4:B391,C16,'QUANTITES PER ITEM'!J4:J391) -> 14 | E16: ='QUANTITES PER ITEM'!K27 -> TONS | F16: ='QUANTITES PER ITEM'!O27 -> https://www.ds-supply.com/ | G16: 4-5 Days | H16: FALSE | I16: Or clean gravel | N16: ='QUANTITES PER ITEM'!L27 -> 35 | O16: =D16*N16 -> 490
A17: 2 | C17: ='QUANTITES PER ITEM'!B28 -> Filter Fabric | D17: =SUMIF('QUANTITES PER ITEM'!B5:B392,C17,'QUANTITES PER ITEM'!J5:J392) -> 4 | E17: ='QUANTITES PER ITEM'!K28 -> ROLL | F17: ='QUANTITES PER ITEM'!N28 -> https://www.amazon.com/dp/B079Y869N5?ref_=cm_sw_r_cp_ud_dp_7E3RTBEWEQ28XYW1J3ZY | G17: 4-5 Days | H17: FALSE | N17: ='QUANTITES PER ITEM'!L28 -> 50 | O17: =D17*N17 -> 200 | P17: SUB TOTAL
A18: 2 | C18: ='QUANTITES PER ITEM'!B29 -> 3.5" Staples | D18: =SUMIF('QUANTITES PER ITEM'!B6:B393,C18,'QUANTITES PER ITEM'!J7:J393) -> 1 | E18: ='QUANTITES PER ITEM'!K29 -> BOX | F18: ='QUANTITES PER ITEM'!N29 -> https://www.amazon.com/100-Pack-Galvanized-Staples-Securing-Landscape/dp/B073F1VMHS/ref=asc_df_B073F1VMHS/?tag=hyprod-20&linkCode=df0&hvadid=216532910363&hvpos=&hvnetw=g&hvrand=1720232130021358387&hvpone=&hvptwo=&hvqmt=&hvdev=c&hvdvcmdl=&hvlocint=&hvlocphy=9007393&hvtargid=pla-370528591821&psc=1 | G18: 4-5 Days | H18: FALSE | N18: ='QUANTITES PER ITEM'!L29 -> 20 | O18: =D18*N18 -> 20 | P18: =sum(O6:O18)+175 -> 1844.6
B19: Gabion Baskets | I19: Gabion Wire (to be cut by distributor) | O19: =D19*N19 -> 0
A20: 1 | C20: ='QUANTITES PER ITEM'!B49 -> 1'x1'x4' 5 gauge BASKETS | D20: =SUMIF('QUANTITES PER ITEM'!B1:B394,C20,'QUANTITES PER ITEM'!J1:J394) -> 0 | E20: ='QUANTITES PER ITEM'!K49 -> EA | F20: ='QUANTITES PER ITEM'!N49 -> https://gabion1.com/product/12-high-x-12-thick/ | G20: 2-3 weeks | H20: FALSE | I20: https://catalog.darbywiremesh.com/category/plain-steel-mesh-by-mesh-count | J20: 2"x2" | K20: 4'-10' Sheets | L20: .16"-.19" dia | M20: Welded | N20: 70 | O20: =D20*N20 -> 0
A21: 1 | C21: 2'x18"x4' 5 gauge Gabion Basket | D21: =SUMIF('QUANTITES PER ITEM'!B2:B395,C21,'QUANTITES PER ITEM'!J2:J395) -> 0 | E21: EA | F21: https://gabion1.com/custom-price/ | G21: 2-3 weeks | H21: FALSE | I21: Product: | J21: https://catalog.darbywiremesh.com/item/plain-steel-mesh-by-mesh-count/plain-steel-wire-mesh-4-x-4-opening-to-1-x-1/2-ps-187wd | N21: 120 | O21: =D21*N21 -> 0 | P21: SUB TOTAL
A22: 1 | C22: Gabion 18x24x24 | D22: =SUMIF('QUANTITES PER ITEM'!B3:B396,C22,'QUANTITES PER ITEM'!J3:J396) -> 0 | E22: EA | F22: https://gabion1.com/custom-price/ | G22: 2-3 weeks | H22: FALSE | N22: 150 | O22: =D22*N22 -> 0
A23: 2 | C23: ='QUANTITES PER ITEM'!B50 -> 1-3" Stone Fill | D23: =SUMIF('QUANTITES PER ITEM'!B2:B395,C23,'QUANTITES PER ITEM'!J2:J395) -> 2 | E23: ='QUANTITES PER ITEM'!K50 -> TONS | F23: https://www.ds-supply.com/ | G23: 4-5 days | H23: FALSE | I23: Gather as much concrete pieces as possible on site/nearby | J23: ='QUANTITES PER ITEM'!C181 -> 32 | K23: CF | L23: =J23/0.5 -> 64 | N23: ='QUANTITES PER ITEM'!L50 -> 52.5 | O23: =D23*N23 -> 105 | P23: =P18+Sum(O20:O23)+'INSERT HERE'!F34 -> 2929.6
B24: Wood Edging | O24: =D24*N24 -> 0
B27: Wood for Furnishings | O27: =D27*N27 -> 0
B28: TIP: ORDER ALL YOUR WOOD FROM HOME DEPOT OR LOWES, ETC. AND HAVE IT DELIVERED
C29: 2x4x8 | D29: =SUMIF('QUANTITES PER ITEM'!B11:B403,C29,'QUANTITES PER ITEM'!J11:J403) -> 36 | E29: ='QUANTITES PER ITEM'!K102 -> ea. | F29: https://www.homedepot.com/p/2-in-x-4-in-x-8-ft-2-Ground-Contact-Pressure-Treated-Lumber-106147/206970948 | G29: 1-3 weeks | H29: FALSE | N29: 5 | O29: =D29*N29 -> 180
C30: 2x4x12 | D30: =SUMIF('QUANTITES PER ITEM'!B14:B405,C30,'QUANTITES PER ITEM'!J14:J405) -> 54 | E30: ='QUANTITES PER ITEM'!K103 -> ea. | F30: https://www.homedepot.com/p/WeatherShield-2-in-x-4-in-x-10-ft-2-Prime-Ground-Contact-Pressure-Treated-Lumber-253920/206967803 | G30: 1-3 weeks | H30: FALSE | N30: 10 | O30: =D30*N30 -> 540
C31: 1x6x8 | D31: =SUMIF('QUANTITES PER ITEM'!B13:B404,C31,'QUANTITES PER ITEM'!J13:J404) -> 0 | E31: ea. | F31: https://www.homedepot.com/p/WeatherShield-1-in-x-6-in-x-8-ft-Ground-Contact-Pressure-Treated-Board-253935/206974075 | G31: 1-3 weeks | H31: FALSE | N31: 8 | O31: =D31*N31 -> 0
C32: 1x6x12 | D32: =SUMIF('QUANTITES PER ITEM'!B14:B405,C32,'QUANTITES PER ITEM'!J14:J405) -> 0 | E32: ea. | F32: https://www.lowes.com/pd/Severe-Weather-Common-1-in-x-6-in-x-12-ft-Actual-0-75-in-x-5-5-in-x-12-ft-2/4564830?cm_mmc=shp-_-c-_-prd-_-lum-_-ggl-_-LIA_LUM_162_Treated-Lumber-And-Decking-Components-_-4564830-_-local-_-0-_-0&gclid=Cj0KCQjwmouZBhDSARIsALYcouomvDeqxsD6fDlOB-K_DGeRmSPiRgJDe0KPbhEA7TWRdGop7v4SxFYaAtPOEALw_wcB&gclsrc=aw.ds | G32: 1-3 weeks | H32: FALSE | N32: 10 | O32: =D32*N32 -> 0
B33: WIRE
C34: 48"x22" | D34: =SUMIF('QUANTITES PER ITEM'!B20:B411,C34,'QUANTITES PER ITEM'!J20:J411) -> 0 | E34: ea. | F34: https://catalog.darbywiremesh.com/category/plain-steel-mesh-by-mesh-count
C35: 48"x10" | D35: =SUMIF('QUANTITES PER ITEM'!B17:B409,C35,'QUANTITES PER ITEM'!J17:J409) -> 0 | E35: ea. | F35: https://catalog.darbywiremesh.com/category/plain-steel-mesh-by-mesh-count
C36: 22"x10" | D36: =SUMIF('QUANTITES PER ITEM'!B19:B410,C36,'QUANTITES PER ITEM'!$J$19:$J$410) -> 0 | E36: ea. | F36: https://catalog.darbywiremesh.com/category/plain-steel-mesh-by-mesh-count
C37: 48"x34" | D37: =SUMIF('QUANTITES PER ITEM'!B20:B411,C37,'QUANTITES PER ITEM'!$J$19:$J$410) -> 0 | E37: ea. | F37: https://catalog.darbywiremesh.com/category/plain-steel-mesh-by-mesh-count
C38: 22"x34" | D38: =SUMIF('QUANTITES PER ITEM'!B21:B412,C38,'QUANTITES PER ITEM'!$J$19:$J$410) -> 0 | E38: ea. | F38: https://catalog.darbywiremesh.com/category/plain-steel-mesh-by-mesh-count
C39: 22"x22" | D39: =SUMIF('QUANTITES PER ITEM'!B10:B413,C39,'QUANTITES PER ITEM'!$J$10:$J$410) -> 4 | E39: ea. | F39: https://catalog.darbywiremesh.com/category/plain-steel-mesh-by-mesh-count
C40: 22"x24" | D40: =SUMIF('QUANTITES PER ITEM'!B11:B414,C40,'QUANTITES PER ITEM'!$J$10:$J$410) -> 4 | E40: ea. | F40: https://catalog.darbywiremesh.com/category/plain-steel-mesh-by-mesh-count
C41: 48"x18" | D41: =SUMIF('QUANTITES PER ITEM'!B12:B415,C41,'QUANTITES PER ITEM'!$J$10:$J$410) -> 0 | E41: ea. | F41: https://catalog.darbywiremesh.com/category/plain-steel-mesh-by-mesh-count
C42: 18"x18" | D42: =SUMIF('QUANTITES PER ITEM'!B13:B416,C42,'QUANTITES PER ITEM'!$J$10:$J$410) -> 0 | E42: ea. | F42: https://catalog.darbywiremesh.com/category/plain-steel-mesh-by-mesh-count | O42: =D42*N42 -> 0
B45: HARDWARE | O45: =D45*N45 -> 0
C46: 1/4" x 1 1/2" Galvanized Lag Screws | D46: =SUMIF('QUANTITES PER ITEM'!B30:B421,C46,'QUANTITES PER ITEM'!J30:J421) -> 0 | E46: ea | G46: 2-3 days | H46: FALSE | N46: 0.4 | O46: =D46*N46 -> 0
C47: Timber Screws 5" | D47: =SUMIF('QUANTITES PER ITEM'!B31:B422,C47,'QUANTITES PER ITEM'!J31:J422) -> 0 | E47: ea | G47: 2-3 days | H47: FALSE | N47: 0.75 | O47: =D47*N47 -> 0
C48: ='QUANTITES PER ITEM'!B102 -> 2.5" Wood Screws | D48: =SUMIF('QUANTITES PER ITEM'!B14:B405,C48,'QUANTITES PER ITEM'!J14:J405) -> 400 | E48: ea. | F48: https://www.homedepot.com/p/GRK-Fasteners-9-x-2-1-2-in-Star-Drive-Torx-Bugle-Head-R4-Multi-Purpose-Wood-Screw-300-Pack-100101/203533402 | G48: 2-3 days | H48: FALSE | I48: http://link.order.homedepot.com/ls/click?upn=-2FP-2BTLLanHvjdADiTmyZ2pcTj89luIagOSVNiPIXzRL3BPpkgCpxolW6cLOi7VW2piM3sDZf0KKSbKY2pedSVlo7CxRRhlQ7uCjJTSu2mpYSwVnyigTQWB3JB-2Bv-2B4qkhTK-2FlUIJxQy6L68wgSbbdy9uruRkzNKkk4zj8g5miCVNH9KtF56sfOSYpILPcQ-2FquTlw9R2fmBLPCqOL7Fj9eLkSofVLT5o2vRwjMDdajJOB6MWyhtZAwN-2F-2FT1-2FkQNPHU-2BwTgc-2BBawpliTX9wDLsd6Xw-3D-3D3NUt_mgfzCxBg-2FrBr7pp5gfuBAueEZpPfFelQ6MYB6OJp9AdAKW4ojcxD0nN8cXz6cWZcXb7b3vYA3HwJmU9H6fo9IKzjLvcefGTELNOl2rv4OCXQh7SU7PIYWb7n1Fdms1-2FuFZ6snXcD1OijH9-2BVgKYE-2B5Sm2ucuuOmTK-2FYutr-2BBe67l-2B1FSwv6bY-2BA1TnDMbMCcaj49OtqoWFfQ9Ka0Ge7MS1PRUspHyW2b3OuS-2BVuY3bZAn8az4pDB9y5j1vbAK0fWpB0PfRoSenGboNhO8jnV8jXPKTDa-2Fit8HtBrKmEfD-2FCV80verBlyvX6Xkf-2BgEEwR4x7jmZ185kk0TFvkR4sbvlmqC9-2FykCxEmcpVoFtoyfD1MwMeEz-2FaquZ2Qg8De4xn16GzZPftKh16tieH-2BsBdvgDVj2D7vihXtKLa6SuqaKExsnxUEGexUyErhY15sDXmIFet45MVwdcwhbLaHMzwUE4y1vcaTG45Dd6fgXXEDYUPbnKqJyp6n2KL4-2FkqLoqYiLZ-2Fn6ld-2FYm6T4Rzw6ZhHJ5vnLAsdGtmUayRiAGDQVvlzyACy-2Bjreyo1UqXKmDddvu2dhFy5eAc6u7b7HahsPmcCkV-2F6Lj7V2s9AXZUDngQyo4E5TTrtnhK8PqQwoxF2l2BOOsgr5-2Bvc3Tasvss0cD2BqXR-2Fhj2mHpkFMf5TThG9A-2FD2QYNk4wzJDwdQ5A1xRPuXVOqOQJuesizLfi-2BRgmPFkwGU8SaSXbblBMjn6S9Y0xGmu-2BuDo7N-2FXBVr-2BFlrDs0X9kqQuo5BKjE2kf9O9iNOrVfY-2BKP-2BEqu0LKqtjfa9jiVbfJOMybcWsYfJyomvk1hAmrAQF4aX62TLqIjaXLEI2ECU-2FUyk31NftR4-2FZQN-2BZbU-2F08onb6WysjyMersqTfUhhQYZDdBtznhAJuDK6ixFTKNOylHKRC0HK73tM-2Brgx66mg9PRj3BvVZcvmO6eErbp1rrcdBaURqf7ZhTrSg-3D-3D | N48: 0.17 | O48: =D48*N48 -> 68
C49: 1/4" x 2 1/2" Exterior Carraige Botls + Nuts + Washer | D49: =SUMIF('QUANTITES PER ITEM'!B16:B407,C49,'QUANTITES PER ITEM'!J16:J407) -> 0 | E49: ea | F49: https://www.homedepot.com/p/Everbilt-1-4-in-20-x-2-1-2-in-Galvanized-Carriage-Bolt-50-Pack-803370/204273460 | G49: 2-3 days | H49: FALSE
C50: 1/4" Hex Nut | D50: =D49 -> 0 | E50: ea | F50: https://www.homedepot.com/p/Everbilt-1-4-in-20-tpi-Zinc-Hex-Nut-100-Pack-801730/204274089 | G50: 2-3 days | H50: FALSE
C51: 1/4" Washer | D51: =D50 -> 0 | E51: ea | F51: https://www.homedepot.com/p/Everbilt-1-4-in-Zinc-Flat-Washer-100-Pack-800452/204276405 | G51: 2-3 days | H51: FALSE
C52: ='QUANTITES PER ITEM'!B103 -> Backrest Brackets | D52: =SUMIF('QUANTITES PER ITEM'!B15:B406,C52,'QUANTITES PER ITEM'!J15:J406) -> 0 | E52: ='QUANTITES PER ITEM'!K103 -> ea. | F52: https://www.hairpinlegs.com/products/bed-bracket-backrest?variant=333970359 | G52: 1-3 weeks | H52: FALSE | I52: MUST BE ORDERED ONLINE | N52: 30 | O52: =D52*N52 -> 0
C53: 2" Wood Screws | D53: =SUMIF('QUANTITES PER ITEM'!B2:B409,C53,'QUANTITES PER ITEM'!J2:J409) -> 0 | E53: ea. | G53: 2-3 days | H53: FALSE | N53: 0.17 | O53: =D53*N53 -> 0
C54: Corner Brace | D54: =SUMIF('QUANTITES PER ITEM'!B3:B410,C54,'QUANTITES PER ITEM'!J3:J410) -> 0 | E54: ea. | F54: https://www.lowes.com/pd/ReliaBilt-RB-2-5-IN-BLK-DW-CORNER-BRACE/5001634697 | G54: 1-3 weeks | H54: FALSE | N54: 5 | O54: =D54*N54 -> 0
C55: #12 1 1/2" Wood Screw | D55: =SUMIF('QUANTITES PER ITEM'!B4:B411,C55,'QUANTITES PER ITEM'!J4:J411) -> 0 | E55: ea. | F55: https://www.homedepot.com/p/Everbilt-12-x-1-1-2-in-Phillips-Flat-Head-Zinc-Plated-Wood-Screw-50-Pack-801962/204275525 | G55: 2-3 days | H55: FALSE | N55: 0.15 | O55: =D55*N55 -> 0
B58: OFF-THE-SHELF
B59: 6 | C59: Solar lights | D59: =SUMIF('QUANTITES PER ITEM'!B5:B412,C59,'QUANTITES PER ITEM'!J5:J412) -> 0 | E59: ea. | F59: ='QUANTITES PER ITEM'!N296 -> https://www.google.com/shopping/product/7189108310985972344?q=solar+lights&bih=722&biw=1536&rlz=1C1CHBF_enUS974US974&hl=en&prds=eto:8739588062055413103_0,pid:5552235741098404666,rsk:PC_2020536842470154044&sa=X&ved=0ahUKEwjlk_Xd_-n4AhVfk4kEHXj-BQcQ8wIImxA | G59: 2-3 Days | H59: FALSE | N59: 8 | O59: =D59*N59 -> 0
B60: 6 | C60: ='QUANTITES PER ITEM'!B276 -> CAFE TABLES + CHAIRS | D60: =SUMIF('QUANTITES PER ITEM'!B6:B413,C60,'QUANTITES PER ITEM'!J6:J413) -> 0 | E60: ='QUANTITES PER ITEM'!D276 | F60: ='QUANTITES PER ITEM'!N276 -> https://www.overstock.com/Home-Garden/Bistro-Sets/22408/subcat.html?featuredproduct=32143367&featuredoption=59388893&ci_sku=36764612-000-000&cnc=US&cid=320034&type=pla&targetid=pla-1677608427274&track=pspla&gclid=CjwKCAjw_b6WBhAQEiwAp4HyIAQV85rLd5k1AyhKmJBGiZhpBq5Mw-MxcyIF5o223mNO-JUOyj3YIhoCJbEQAvD_BwE | G60: 2-3 Days | H60: FALSE | I60: ='QUANTITES PER ITEM'!H276 | J60: ='QUANTITES PER ITEM'!I276 | L60: ='QUANTITES PER ITEM'!K276 -> EA | M60: ='QUANTITES PER ITEM'!L276 -> 160 | N60: ='QUANTITES PER ITEM'!M276 -> 0 | P60: ='QUANTITES PER ITEM'!O276 | Q60: ='QUANTITES PER ITEM'!P276 | R60: ='QUANTITES PER ITEM'!Q276 | S60: ='QUANTITES PER ITEM'!R276
B61: 6 | C61: ='QUANTITES PER ITEM'!B279 -> BUBLER | D61: =SUMIF('QUANTITES PER ITEM'!B7:B414,C61,'QUANTITES PER ITEM'!J7:J414) -> 0 | E61: ='QUANTITES PER ITEM'!D279 | F61: ='QUANTITES PER ITEM'!N279 -> https://www.amazon.com/dp/B08NJN5MTQ/ref=sspa_dk_detail_1?psc=1&pd_rd_i=B08NJN5MTQ&pd_rd_w=OxRpR&content-id=amzn1.sym.3481f441-61ac-4028-9c1a-7f9ce8ec50c5&pf_rd_p=3481f441-61ac-4028-9c1a-7f9ce8ec50c5&pf_rd_r=9HYJVARGPRBVRHP3RNM9&pd_rd_wg=QtbGO&pd_rd_r=c9ad9b8e-66b8-403f-a8f1-5743bfc5948b&s=hi&spLa=ZW5jcnlwdGVkUXVhbGlmaWVyPUEyVFJPUVdJUVRWRVdNJmVuY3J5cHRlZElkPUEwNzc1ODE2RUwxVFgxNUY5RVlBJmVuY3J5cHRlZEFkSWQ9QTA4NzY2MTcxVlBaT05INlVGRE8xJndpZGdldE5hbWU9c3BfZGV0YWlsX3RoZW1hdGljJmFjdGlvbj1jbGlja1JlZGlyZWN0JmRvTm90TG9nQ2xpY2s9dHJ1ZQ== | G61: 2-3 Days | H61: FALSE | I61: ='QUANTITES PER ITEM'!H279 | J61: ='QUANTITES PER ITEM'!I279 | L61: ='QUANTITES PER ITEM'!K279 | M61: ='QUANTITES PER ITEM'!L279 -> 17 | N61: ='QUANTITES PER ITEM'!M279 -> 0 | P61: ='QUANTITES PER ITEM'!O279 | Q61: ='QUANTITES PER ITEM'!P279 | R61: ='QUANTITES PER ITEM'!Q279 | S61: ='QUANTITES PER ITEM'!R279
B62: 6 | C62: ='QUANTITES PER ITEM'!B282 -> Bird Bath | D62: =SUMIF('QUANTITES PER ITEM'!B8:B415,C62,'QUANTITES PER ITEM'!J8:J415) -> 0 | E62: ='QUANTITES PER ITEM'!D282 | F62: ='QUANTITES PER ITEM'!N282 -> https://www.wayfair.com/outdoor/pdp/breakwater-bay-bardem-birdbath-w005482539.html?piid=1572382924 | G62: 2-3 Days | H62: FALSE | I62: ='QUANTITES PER ITEM'!H282 | J62: ='QUANTITES PER ITEM'!I282 | L62: ='QUANTITES PER ITEM'!K282 | M62: ='QUANTITES PER ITEM'!L282 -> 110 | N62: ='QUANTITES PER ITEM'!M282 | P62: ='QUANTITES PER ITEM'!O282 | Q62: ='QUANTITES PER ITEM'!P282 | R62: ='QUANTITES PER ITEM'!Q282 | S62: ='QUANTITES PER ITEM'!R282
B63: 6 | C63: ='QUANTITES PER ITEM'!B284 -> Bird House | D63: =SUMIF('QUANTITES PER ITEM'!B9:B416,C63,'QUANTITES PER ITEM'!J9:J416) -> 0 | E63: ='QUANTITES PER ITEM'!D284 | F63: ='QUANTITES PER ITEM'!N284 -> https://www.lowes.com/pd/Wild-Wings-Cedar-Box-Wren-House/5005485653?cm_mmc=shp-_-c-_-prd-_-sol-_-ggl-_-LIA_SOL_109_Patio-_-5005485653-_-local-_-0-_-0&ds_rl=1286981&gclid=CjwKCAjw_b6WBhAQEiwAp4HyIP_3zQR8gB6eN5YD2s35LENDS6q1_80JgbofsbKCBDfXH_AqzEpTKRoCwqUQAvD_BwE&gclsrc=aw.ds | G63: 2-3 Days | H63: FALSE | I63: ='QUANTITES PER ITEM'!H284 | J63: ='QUANTITES PER ITEM'!I284 | L63: ='QUANTITES PER ITEM'!K284 | M63: ='QUANTITES PER ITEM'!L284 -> 110 | N63: ='QUANTITES PER ITEM'!M284 -> 0 | P63: ='QUANTITES PER ITEM'!O284 | Q63: ='QUANTITES PER ITEM'!P284 | R63: ='QUANTITES PER ITEM'!Q284 | S63: ='QUANTITES PER ITEM'!R284
B64: 6 | C64: ='QUANTITES PER ITEM'!B286 -> Event tent | D64: =SUMIF('QUANTITES PER ITEM'!B10:B417,C64,'QUANTITES PER ITEM'!J10:J417) -> 0 | E64: ='QUANTITES PER ITEM'!D286 | F64: ='QUANTITES PER ITEM'!N286 -> https://www.bannerbuzz.com/blue-canopy-tents/p?ef_id=CjwKCAjw_b6WBhAQEiwAp4HyIM9SM8oSbzJoxa0qSxocALkPAwEgj5A2aqKWriYNYlJ_I3LmA8AXrRoC1_4QAvD_BwE:G:s&gclid=CjwKCAjw_b6WBhAQEiwAp4HyIM9SM8oSbzJoxa0qSxocALkPAwEgj5A2aqKWriYNYlJ_I3LmA8AXrRoC1_4QAvD_BwE | G64: 2-3 Days | H64: FALSE | I64: ='QUANTITES PER ITEM'!H286 | J64: ='QUANTITES PER ITEM'!I286 | L64: ='QUANTITES PER ITEM'!K286 | M64: ='QUANTITES PER ITEM'!L286 -> 90 | N64: ='QUANTITES PER ITEM'!M286 -> 0 | P64: ='QUANTITES PER ITEM'!O286 | Q64: ='QUANTITES PER ITEM'!P286 | R64: ='QUANTITES PER ITEM'!Q286 | S64: ='QUANTITES PER ITEM'!R286
B65: 6 | C65: ='QUANTITES PER ITEM'!B288 -> Adirondack Chair | D65: =SUMIF('QUANTITES PER ITEM'!B11:B418,C65,'QUANTITES PER ITEM'!J11:J418) -> 0 | E65: ='QUANTITES PER ITEM'!D288 | F65: ='QUANTITES PER ITEM'!N288 -> https://www.walmart.com/ip/Mainstays-Wood-Outdoor-Modern-Adirondack-Chair-Black-Color/418931690?wmlspartner=wlpa&selectedSellerId=0 | G65: 2-3 Days | H65: FALSE | I65: ='QUANTITES PER ITEM'!H288 | J65: ='QUANTITES PER ITEM'!I288 | L65: ='QUANTITES PER ITEM'!K288 | M65: ='QUANTITES PER ITEM'!L288 -> 80 | N65: ='QUANTITES PER ITEM'!M288 -> 0 | P65: ='QUANTITES PER ITEM'!O288 | Q65: ='QUANTITES PER ITEM'!P288 | R65: ='QUANTITES PER ITEM'!Q288 | S65: ='QUANTITES PER ITEM'!R288
B66: 6 | C66: ='QUANTITES PER ITEM'!B290 -> Hammock | D66: =SUMIF('QUANTITES PER ITEM'!B12:B419,C66,'QUANTITES PER ITEM'!J12:J419) -> 0 | E66: ='QUANTITES PER ITEM'!D290 | F66: ='QUANTITES PER ITEM'!N290 -> https://www.google.com/shopping/product/4189988666204314689?q=free+standing+hammock&prds=epd:10290096553661121133,eto:10290096553661121133_0,pid:867313990876214772&sa=X&ved=0ahUKEwj5huOiovn4AhXKEmIAHdGKAUIQ9pwGCAo | G66: 2-3 Days | H66: FALSE | I66: ='QUANTITES PER ITEM'!H290 | J66: ='QUANTITES PER ITEM'!I290 | L66: ='QUANTITES PER ITEM'!K290 | M66: ='QUANTITES PER ITEM'!L290 -> 180 | N66: ='QUANTITES PER ITEM'!M290 -> 0 | P66: ='QUANTITES PER ITEM'!O290 | Q66: ='QUANTITES PER ITEM'!P290 | R66: ='QUANTITES PER ITEM'!Q290 | S66: ='QUANTITES PER ITEM'!R290
B67: 6 | C67: ='QUANTITES PER ITEM'!B292 -> Free-standing swing | D67: =SUMIF('QUANTITES PER ITEM'!B13:B420,C67,'QUANTITES PER ITEM'!J13:J420) -> 0 | E67: ='QUANTITES PER ITEM'!D292 | F67: ='QUANTITES PER ITEM'!N292 -> https://www.wayfair.com/outdoor/pdp/millwood-pines-fina-hardwood-hanging-porch-swing-with-stand-w004890801.html | G67: 2-3 Days | H67: FALSE | I67: ='QUANTITES PER ITEM'!H292 | J67: ='QUANTITES PER ITEM'!I292 | L67: ='QUANTITES PER ITEM'!K292 | M67: ='QUANTITES PER ITEM'!L292 -> 300 | N67: ='QUANTITES PER ITEM'!M292 -> 0 | P67: ='QUANTITES PER ITEM'!O292 | Q67: ='QUANTITES PER ITEM'!P292 | R67: ='QUANTITES PER ITEM'!Q292 | S67: ='QUANTITES PER ITEM'!R292
B68: 6 | C68: ='QUANTITES PER ITEM'!B294 -> Trash Can | D68: =SUMIF('QUANTITES PER ITEM'!B14:B421,C68,'QUANTITES PER ITEM'!J14:J421) -> 0 | E68: ='QUANTITES PER ITEM'!D294 | F68: ='QUANTITES PER ITEM'!N294 -> https://www.homedepot.com/p/Toter-60-Gal-Park-Trash-Can-with-Lid-860GB-35865/310677298 | G68: 2-3 Days | H68: FALSE | I68: ='QUANTITES PER ITEM'!H294 | J68: ='QUANTITES PER ITEM'!I294 | L68: ='QUANTITES PER ITEM'!K294 | M68: ='QUANTITES PER ITEM'!L294 -> 360 | N68: ='QUANTITES PER ITEM'!M294 | P68: ='QUANTITES PER ITEM'!O294 | Q68: ='QUANTITES PER ITEM'!P294 | R68: ='QUANTITES PER ITEM'!Q294 | S68: ='QUANTITES PER ITEM'!R294
B71: PAVERS TBD | O71: =P23+SUM(O29:O53) -> 3717.6
B73: TOOLS
C74: Impact Driver
C75: Impact Driver Adaptor | F75: https://www.amazon.com/DEWALT-DW2055B-6-Inch-Magnetic-Drive/dp/B000HNFKHS/ref=asc_df_B000HNFKHS/?tag=hyprod-20&linkCode=df0&hvadid=309763890402&hvpos=&hvnetw=g&hvrand=9941499681961132970&hvpone=&hvptwo=&hvqmt=&hvdev=c&hvdvcmdl=&hvlocint=&hvlocphy=9007392&hvtargid=pla-572951890692&psc=1
B77: HIGHLY RECCOMMENDED TOOLS
C78: Auger Bit | F78: https://www.amazon.com/dp/B087D38RH7?aaxitk=50914e7a44f6e5a6dd46b58ed3811fc2&pf_rd_p=ec7e49ff-ccce-49e1-b560-6096a83a001b&pf_rd_r=986VR2MRKWXMPRQF4WJJ&pd_rd_wg=hABUd&pd_rd_w=Jv942&pd_rd_r=4fadc91f-f0b7-49ba-953c-06af49ed870a&ref=dacx_dp_590106507034339614_591376492430782507
C79: Impact Driver Adaptor sizes | F79: https://www.amazon.com/DEWALT-DWAIND-5-COMPACT-NUT-DRIVER/dp/B07SNGL2GX/ref=sr_1_9?crid=1GY21WQV7TI28&keywords=DEWALT+Nut+Driver+Set%2C&qid=1658058072&s=hi&sprefix=dewalt+nut+driver+set%2C%2Ctools%2C86&sr=1-9
B81: Additional Elements
C82: FIRE HYDRANT OPENER | D82: hose adapter
C83: FIRE HYDRANT OPENER | D83: gear puller to open
B85: Skid Skeer | C85: Machine for a week

Sheet QUANTITES PER ITEM
D2: NUMBER NEEDED | F2: DEPTH | G2: CF | H2: CY | I2: TONS | J2: UNIT OF MEASURE | K2: UNIT USED | L2: UNIT COST | M2: TOTALS
B3: LENGTH | C3: ='INSERT HERE'!B5 -> 27
B4: WIDTH | C4: ='INSERT HERE'!B7 -> 56
B5: AREA | C5: =C3*C4 -> 1512
B6: GREEN AREA | C6: ='INSERT HERE'!B9*4*4 -> 112
B7: PLAY AREA | C7: ='INSERT HERE'!B11*4*4 -> 0
B9: STAGING
B10: SQUARES | C10: AREA
B11: =C11/4 -> 378 | C11: =C5 -> 1512
B12: EROSION CONTROL | C12: =C3*2+C4*2 -> 166 | J12: =roundup(C12/100,0) -> 2 | K12: roll | L12: 50 | M12: =L12*J12 -> 100 | N12: LINK
B13: STAKES | C13: =B11/5 -> 75.6 | D13: =C13/25 -> 3.024 | J13: =D13 -> 3.024 | K13: package | L13: 25 | M13: =L13*J13 -> 75.6 | N13: https://www.amazon.com/Kitzmans-Dixon-Grade-Survey-Stakes/dp/B000CSIHWI/ref=asc_df_B000CSIHWI/?tag=hyprod-20&linkCode=df0&hvadid=279210092112&hvpos=&hvnetw=g&hvrand=8907831315522917541&hvpone=&hvptwo=&hvqmt=&hvdev=c&hvdvcmdl=&hvlocint=&hvlocphy=9007393&hvtargid=pla-643045917054&th=1
B14: MARKING PAINT | C14: =C11 -> 1512 | D14: =Roundup(C14/1000,0) -> 2 | J14: =D14 -> 2 | K14: can | L14: 8 | M14: =L14*J14 -> 16
J15: SUB-TOTAL | M15: =SUM(M11:M14) -> 191.6
B16: SOIL
B17: SQUARES | C17: AREA
B18: ='INSERT HERE'!B9 -> 7 | C18: =B18*4*4 -> 112
A19: 6" | B19: SOIL | C19: =C18 -> 112 | E19: SF | F19: 0.5 | G19: =SUM(C19*F19) -> 56 | H19: =SUM(G19/27) -> 2.0740741 | J19: =ROUNDUP(H19,0) -> 3 | K19: CY | L19: 35 | M19: =L19*J19 -> 105 | N19: https://mulchexpresslandscapesupply.com/
A20: 2" | B20: MULCH | C20: =C18 -> 112 | E20: SF | F20: 0.18 | G20: =SUM(C20*F20) -> 20.16 | H20: =SUM(G20/27) -> 0.74666667 | J20: =ROUNDUP(H20,0) -> 1 | K20: CY | L20: 28 | M20: =L20*J20 -> 28 | N20: https://www.lowes.com/pd/0-5-Cubic-yard-s-species-Shredded-Bulk-Mulch/5001761155?cm_mmc=shp-_-c-_-prd-_-lwn-_-ggl-_-LIA_LWN_179_Landscape-Products-_-5001761155-_-local-_-0-_-0&ds_rl=1286981&gclid=CjwKCAjw4ayUBhA4EiwATWyBrmpjft2geXcr_GbgAuZdYUUlKXKQEUDcr0Y6XsMnQlH_pEXriwpSuxoCRF0QAvD_BwE&gclsrc=aw.ds
B21: DELIVERY | C21: =(J20+J19)/18 -> 0.22222222 | J21: =H21 | L21: 75 | M21: =L21*C21 -> 16.666667 | N21: https://mulchexpresslandscapesupply.com/
J22: SUB-TOTAL | M22: =SUM(M19:M21) -> 149.66667
B23: GRAVEL
B24: SQUARES | C24: AREA
B25: =C25/16 -> 94.5 | C25: ='INSERT HERE'!B5*'INSERT HERE'!B7 -> 1512 | N25: UNLINKED!!
B26: 3/8" Red Tipple | C26: =C25 -> 1512 | E26: SF | F26: 0.17 | G26: =SUM(C25*F26) -> 257.04 | H26: =SUM(G26/27) -> 9.52 | I26: =H26*1.4 -> 13.328 | J26: =ROUNDUP(I26,0) -> 14 | K26: TONS | L26: 52.5 | M26: =L26*J26 -> 735 | N26: 2in | O26: https://www.ds-supply.com/ | P26: ALT: | Q26: https://mulchexpresslandscapesupply.com/
B27: 3/4" Clean Stone agg base | C27: =C25 -> 1512 | E27: SF | F27: 0.17 | G27: =SUM(C25*F27) -> 257.04 | H27: =SUM(G27/27) -> 9.52 | I27: =H27*1.4 -> 13.328 | J27: =ROUNDUP(I27,0) -> 14 | K27: TONS | L27: 35 | M27: =L27*J27 -> 490 | N27: 2in | O27: https://www.ds-supply.com/ | P27: ALT: | Q27: https://mulchexpresslandscapesupply.com/
B28: Filter Fabric | C28: =C25 -> 1512 | E28: SF | J28: =ROUNDUP(C28/400,0) -> 4 | K28: ROLL | L28: 50 | M28: =L28*J28 -> 200 | N28: https://www.amazon.com/dp/B079Y869N5?ref_=cm_sw_r_cp_ud_dp_7E3RTBEWEQ28XYW1J3ZY
B29: 3.5" Staples | C29: =C25*0.2 -> 302.4 | E29: STAPLES | J29: =ROUNDUP(C29/100,0) -> 4 | K29: BOX | L29: 20 | M29: =L29*J29 -> 80 | N29: https://www.amazon.com/100-Pack-Galvanized-Staples-Securing-Landscape/dp/B073F1VMHS/ref=asc_df_B073F1VMHS/?tag=hyprod-20&linkCode=df0&hvadid=216532910363&hvpos=&hvnetw=g&hvrand=1720232130021358387&hvpone=&hvptwo=&hvqmt=&hvdev=c&hvdvcmdl=&hvlocint=&hvlocphy=9007393&hvtargid=pla-370528591821&psc=1
B30: DELIVERY | H30: =SUM(H26:H27) -> 19.04 | J30: =ROUNDUP(H30/24,0) -> 1 | K30: TRIP | L30: 50 | M30: =L30*J30 -> 50 | N30: https://www.ds-supply.com/ | O30: ALT: | P30: https://mulchexpresslandscapesupply.com/
J31: SUB-TOTAL | M31: =SUM(M25:M30) -> 1555
B32: PLAY AREA
B33: SQUARES | C33: AREA
B34: =C7/16 -> 0 | C34: =C7 -> 0
A35: 4" | B35: MULCH | C35: =C34 -> 0 | E35: SF | F35: 0.33 | G35: =SUM(C35*F35) -> 0 | H35: =SUM(G35/27) -> 0 | J35: =ROUNDUP(H35,0) -> 0 | K35: CY | L35: 28 | M35: =L35*J35 -> 0 | N35: https://www.lowes.com/pd/0-5-Cubic-yard-s-species-Shredded-Bulk-Mulch/5001761155?cm_mmc=shp-_-c-_-prd-_-lwn-_-ggl-_-LIA_LWN_179_Landscape-Products-_-5001761155-_-local-_-0-_-0&ds_rl=1286981&gclid=CjwKCAjw4ayUBhA4EiwATWyBrmpjft2geXcr_GbgAuZdYUUlKXKQEUDcr0Y6XsMnQlH_pEXriwpSuxoCRF0QAvD_BwE&gclsrc=aw.ds
B38: PLANTING
B39: PERRENIALS | C39: ='INSERT HERE'!C30 -> 28 | E39: EA | J39: =C39 -> 28 | K39: =E39 -> EA | L39: 10 | M39: =L39*J39 -> 280
B40: SHRUBS | C40: ='INSERT HERE'!C31 -> 10 | E40: EA | J40: =C40 -> 10 | K40: =E40 -> EA | L40: 50 | M40: =L40*J40 -> 500
B41: TREES- SM | C41: ='INSERT HERE'!C32 -> 2 | E41: EA | J41: =C41 -> 2 | K41: =E41 -> EA | L41: 100 | M41: =L41*J41 -> 200
B42: TREES- LG | C42: ='INSERT HERE'!C33 -> 0 | E42: EA | J42: =C42 -> 0 | K42: =E42 -> EA | L42: 75 | M42: =L42*J42 -> 0
J43: SUB-TOTAL | M43: =SUM(M39:M42) -> 980
B46: GABIONS -12" x 12" x 4'-0"
B47: NUMBER | C47: AREA
B48: ='INSERT HERE'!B37 -> 0 | C48: =B48*4*1 -> 0
B49: 1'x1'x4' 5 gauge BASKETS | C49: =B48 -> 0 | E49: EA | J49: =C49 -> 0 | K49: =E49 -> EA | L49: 70 | M49: =L49*J49 -> 0 | N49: https://gabion1.com/product/12-high-x-12-thick/
B50: 1-3" Stone Fill | C50: =C48 -> 0 | E50: CF | F50: 1 | G50: =C50 -> 0 | H50: =SUM(G50/27) -> 0 | I50: =H50*1.4 -> 0 | J50: =ROUNDUP(I50,0) -> 0 | K50: TONS | L50: 52.5 | M50: =L50*J50 -> 0 | N50: https://www.ds-supply.com/landscape-supply
B51: Geotextile fabric
B52: Galvanized wire 14 or 16 gauge
B53: Helical wires
J54: SUB-TOTAL | M54: =SUM(M48:M50) -> 0
B55: TOOLS
B56: Pliers
B57: Bolt cutters/Heavy duty wire cutters
B58: Hand tamper
B59: Safety goggles
B60: Mask
B61: Work gloves
B62: String level line
B63: WOOD EDGE FOR GRAVEL
B64: LENGTH | C64: ='INSERT HERE'!F19 -> 0
B65: 1x4x12 | C65: =C64/12 -> 0 | J65: =ROUNDUP(C65+C67,0) -> 0 | K65: EA | L65: 5 | M65: =L65*J65 -> 0
A66: HARDSCAPE SUPPORT | C66: ='INSERT HERE'!F20 -> 0
B67: 2X4X8 | C67: =ROUNDUP(D67/3,0)/8 -> 0 | D67: =C64/5 -> 0 | J67: =ROUNDUP(C67,0) -> 0 | K67: EA | L67: 5 | M67: =L67*J67 -> 0
B68: L-BRACKET | C68: =D67 -> 0 | J68: =C68 -> 0 | K68: EA | L68: 3.5 | M68: =L68*J68 -> 0 | N68: LINK
B69: 2 1/2" Self Driving screw | C69: =C68*2 -> 0 | J69: =C69 -> 0 | K69: EA | L69: 0.75 | M69: =L69*J69 -> 0 | N69: LINK
B70: 2" Concrete Screw | C70: =C68*2 -> 0 | J70: =C70 -> 0 | K70: EA | L70: 0.75 | M70: =L70*J70 -> 0 | N70: LINK
A71: SOFTSCAPE SUPPORT | C71: ='INSERT HERE'!F21 -> 0
J74: SUB-TOTAL | M74: =SUM(M65:M73) -> 0
B75: RAISED BEDS - TO GABIONS
B76: LENGTH | C76: ='INSERT HERE'!F23 -> 0
B77: 1x6x12 | C77: =roundup(D77,0) -> 0 | D77: =C76/12 -> 0 | E77: EA | J77: =C77 -> 0 | K77: EA | L77: 4 | M77: =L77*J77 -> 0 | N77: https://www.homedepot.com/p/WeatherShield-2-in-x-6-in-x-12-ft-2-Prime-Ground-Contact-Pressure-Treated-Lumber-253921/206967802
A78: SUPPORTS - HARDSCAPE | C78: ='INSERT HERE'!F24 -> 0
B79: 2x4x8 | C79: =roundup((D79/2)/8,0) -> 0 | D79: =C76/5 -> 0 | J79: =C79 -> 0 | K79: EA | L79: =SUMIF('ORDER LIST'!C17:C42,B79,'ORDER LIST'!N17:N42) -> 5 | M79: =L79*J79 -> 0 | N79: https://www.homedepot.com/p/WeatherShield-2-in-x-4-in-x-8-ft-2-Prime-Ground-Contact-Pressure-Treated-Lumber-291224/301836994?source=shoppingads&locale=en-US&&mtc=SHOPPING-CM-CML-GGL-D21-021_020_PR_TRT_DECK-NA-NA-NA-SMART-2996800-NA-NA-NA-NBR-NA-NA-NEW-D21New_Active&cm_mmc=SHOPPING-CM-CML-GGL-D21-021_020_PR_TRT_DECK-NA-NA-NA-SMART-2996800-NA-NA-NA-NBR-NA-NA-NEW-D21New_Active-71700000093638660-58700007799974874-92700070866704554&gclid=CjwKCAjwiJqWBhBdEiwAtESPaLq1tLk_aGJ4Xk-URTqL57ZNwo7dt1LLJlnXCUkxOLEoXSiPR1keJRoCvOQQAvD_BwE&gclsrc=aw.ds
B80: L-BRACKET | C80: =D79 -> 0 | J80: =C80 -> 0 | K80: EA | L80: 3.5 | M80: =L80*J80 -> 0 | N80: LINK
B81: 2 1/2" Self Driving screw | C81: =C80*2 -> 0 | J81: =C81 -> 0 | K81: EA | L81: 0.75 | M81: =L81*J81 -> 0 | N81: LINK
B82: 2" Concrete Screw | C82: =C80*2 -> 0 | J82: =C82 -> 0 | K82: EA | L82: 0.75 | M82: =L82*J82 -> 0 | N82: LINK
A83: SUPPORTS - SOFTSCAPE | C83: ='INSERT HERE'!F25 -> 0
B84: 2x4x8 | C84: =roundup((D84/1.5)/8,0) -> 0 | D84: =D79 -> 0 | J84: =C84 -> 0 | K84: EA | L84: =SUMIF('ORDER LIST'!C23:C52,B84,'ORDER LIST'!N23:N52) -> 5 | M84: =L84*J84 -> 0
A85: EDGE TO GABION | C85: ='INSERT HERE'!F26 -> 0
B86: 2x4x8 | C86: =D86/4 -> 0 | D86: ='INSERT HERE'!F45 -> 0 | E86: IN | J86: =ROUNDUP(C86,0) -> 0 | K86: EA | L86: =SUMIF('ORDER LIST'!C18:C45,B86,'ORDER LIST'!N18:N45) -> 5 | M86: =L86*J86 -> 0
J87: SUB-TOTAL | M87: =SUM(M76:M86) -> 0
B90: 2' w x18" h x 4' WOOD TOPPED GABIONS
B91: NUMBER | C91: AREA
C92: =B92*4*2*1.5 -> 0
B93: 2'x18"x4' 5 gauge Gabion Basket | C93: =B92 | E93: EA | J93: =C93 | K93: =E93 -> EA | L93: 120 | M93: =L93*J93 -> 0 | N93: https://gabion1.com/custom-price/
B94: 1-3" Stone Fill | C94: =C92 -> 0 | E94: CF | G94: =C94 -> 0 | H94: =SUM(G94/27) -> 0 | I94: =H94*1.4 -> 0 | J94: =ROUNDUP(I94,0) -> 0 | K94: TONS | L94: 52.5 | M94: =L94*J94 -> 0 | N94: https://www.ds-supply.com/landscape-supply
B95: ='MATERIAL CALCULATIONS'!L178 -> 2x4x8 | C95: =ROUNDUP(SUM(D95*B92),0) -> 0 | D95: 5.5 | J95: =C95 -> 0 | K95: ea. | L95: =SUMIF('ORDER LIST'!C29:C45,B95,'ORDER LIST'!N29:N45) -> 5 | M95: =L95*J95 -> 0 | N95: https://www.homedepot.com/p/WeatherShield-1-in-x-6-in-x-8-ft-Ground-Contact-Pressure-Treated-Board-253935/206974075
B96: 2.5" Wood Screws | C96: =SUM(D96*B92) -> 0 | D96: 36 | J96: =C96 -> 0 | K96: ea. | L96: 0.17 | M96: =L96*J96 -> 0
J97: SUB-TOTAL | M97: =SUM(M93:M96) -> 0
B98: 4' Bench with back and arms
B99: NUMBER
B100: ='INSERT HERE'!B55
B101: 2x4x8 | C101: =B100*D101 -> 0 | D101: 7.5 | J101: =C101 -> 0 | K101: ea.
B102: 2.5" Wood Screws | C102: =ROUNDUP(SUM(D102*B100),0) -> 0 | D102: 88 | J102: =C102 -> 0 | K102: ea. | L102: 0.17 | M102: =L102*J102 -> 0
B103: Backrest Brackets | C103: =SUM(D103*B100) -> 0 | D103: 2 | J103: =C103 -> 0 | K103: ea. | L103: 30 | M103: =L103*J103 -> 0 | N103: https://www.hairpinlegs.com/products/bed-bracket-backrest?variant=333970359
B104: 1/4" x 1 1/2" Lag Screws | C104: =SUM(D104*B100) -> 0 | D104: 6 | J104: =C104 -> 0 | K104: ea. | L104: 0.4 | M104: =L104*J104 -> 0
B105: 1/4" x 2 1/2" Exterior Carraige Botls + Nuts + Washer | C105: =SUM(D105*B100) -> 0 | D105: 4 | J105: =C105 -> 0 | K105: ea. | L105: 2 | M105: =L105*J105 -> 0
C106: =SUM(D106*B100) -> 0 | J106: TOTAL | L106: =SUM(L98:L105) -> 32.57 | M106: =SUM(M98:M105) -> 0
B107: TOOLS
B108: 10" or 12" Mitter Saw
B109: Impact Driver
B110: 1/4" Drill bit
...

Sheet MATERIAL CALCULATIONS
B2: LENGTH | C2: WIDTH | D2: HEIGHT | E2: NUMBER | F2: TOTAL LENGTH | G2: WIDTH
A3: 4' | B3: 17.5" GABION x 22
A4: SIDES LONG | B4: 48 | C4: 16 | E4: 2
A5: BOTTOM | B5: 48 | C5: 22 | E5: 1 | K5: NOTE: DARBY WIRE - Tell them CLOSED EDGES, or closed pieces
A6: SIDES SHORT | B6: 16 | C6: 22 | E6: 2 | K6: sales@darbywiremesh.com
A7: 2x4x8 | E7: 2
A9: 4' | B9: 23.5" GABION x 22
A10: SIDES LONG | B10: 48 | C10: 22 | E10: 2
A11: BOTTOM | B11: 48 | C11: 22 | E11: 1
A12: SIDES SHORT | B12: 22 | C12: 22 | E12: 2
A13: 2x4x8 | E13: 2
A15: 4' | B15: 11.5" GABION x 22
A16: SIDES LONG | B16: 48 | C16: 10 | E16: 2
A17: BOTTOM | B17: 48 | C17: 22 | E17: 1
A18: SIDES SHORT | B18: 22 | C18: 10 | E18: 2
A19: 2x4x8 | E19: 2
A21: 4' | B21: 35.5" GABION x 22
A22: SIDES LONG | B22: 48 | C22: 34 | E22: 2
A23: BOTTOM | B23: 48 | C23: 22 | E23: 1
A24: SIDES SHORT | B24: 34 | C24: 22 | E24: 2
A25: 2x4x8 | E25: 2
A27: 8' | B27: 23.5" GABION x 22
A28: SIDES LONG | B28: 96 | C28: 22 | E28: 2
A29: BOTTOM | B29: 96 | C29: 22 | E29: 1
A30: SIDES SHORT | B30: 22 | C30: 22 | E30: 2
A31: 2x4x8 | E31: 3
B44: BENCH 4' with back and armrest
A46: LEGS | B46: 16.5 | C46: 4 | D46: 4 | E46: 4 | F46: =B46*E46 -> 66 | G46: 4x4
A47: LEG BRACE SIDES | B47: 16 | C47: 2 | D47: 4 | E47: 6 | F47: =B47*E47 -> 96 | G47: 2x4
A48: LEG BRACE BACK | B48: 42 | C48: 2 | D48: 4 | E48: 3 | F48: =B48*E48 -> 126
A49: LEG BRACE FRONT | B49: 45 | C49: 2 | D49: 4 | E49: 1 | F49: =B49*E49 -> 45
A50: SEAT | B50: 48 | C50: 2 | D50: 6 | E50: 2 | F50: =B50*E50 -> 96 | G50: 2X6X8
A51: SEAT | B51: 48 | C51: 2 | D51: 8 | E51: 1 | F51: =B51*E51 -> 48 | G51: 2X8X8
A52: ARMREST TOP | B52: 20 | C52: 2 | D52: 4 | E52: 2 | F52: =B52*E52 -> 40 | G52: 2X4X10
A53: ARMREST SUPPORT | B53: 7 | C53: 2 | D53: 4 | E53: 4 | F53: =B53*E53 -> 28 | G53: 2X4X10
A54: BACK | B54: 48 | C54: 2 | D54: 10 | E54: 1 | F54: =B54*E54 -> 48 | G54: 2X8X10 | H54: 0.5
B55: LUMBER NEEDED
B56: WxH | F56: TOTAL INCHES | G56: FEET | H56: /8 | I56: /10 | J56: /12 | K56: QTY | L56: LUMBER REQUIRED
B57: 4x4 | F57: =F46 -> 66 | G57: =F57/12 -> 5.5 | H57: =G57/8 -> 0.6875 | I57: =G57/10 -> 0.55 | J57: =G57/12 -> 0.45833333 | K57: 1 | L57: 4x4x6
B58: 2x10 | F58: =F54 -> 48 | G58: =F58/12 -> 4 | H58: =G58/8 -> 0.5 | I58: =G58/10 -> 0.4 | J58: =G58/12 -> 0.33333333 | K58: 0.5 | L58: 2x10x8
B59: 2x4 | F59: =F52+F53+F49+F48+F47 -> 335 | G59: =F59/12 -> 27.916667 | H59: =G59/8 -> 3.4895833 | I59: =G59/10 -> 2.7916667 | J59: =G59/12 -> 2.3263889 | K59: 3 | L59: 2x4x10
B60: 2x6 | F60: =F50 -> 96 | G60: =F60/12 -> 8 | H60: =G60/8 -> 1 | I60: =G60/10 -> 0.8 | J60: =G60/12 -> 0.66666667 | K60: 1 | L60: 2x6x8
B61: 2x8 | F61: =F51 -> 48 | G61: =F61/12 -> 4 | H61: =G61/8 -> 0.5 | I61: =G61/10 -> 0.4 | J61: =G61/12 -> 0.33333333 | K61: 0.5 | L61: 2x8x8
L62: HARDWARE
K63: =SUM(E46:E54)*2 -> 48 | L63: 3" SCREWS
K64: 8 | L64: L-BRACET | M64: https://www.homedepot.com/p/Everbilt-6-in-Black-Hammered-Corner-Brace-4-Pack-12834/315016290
A65: BENCH 4' with back | G65: FEET | H65: /8 | I65: /10
A66: LEGS | B66: 16.5 | C66: 4 | D66: 4 | E66: 4 | F66: =B66*E66 -> 66 | G66: =F66/12 -> 5.5 | H66: =G66/8 -> 0.6875 | I66: =G66/10 -> 0.55 | J66: 1 | K66: 4x4
A67: LEG BRACE SIDES | B67: 16 | C67: 2 | D67: 4 | E67: 6 | F67: =B67*E67 -> 96 | G67: =F67/12 -> 8 | H67: =G67/8 -> 1 | I67: =G67/10 -> 0.8 | K67: 2x4
A68: LEG BRACE BACK | B68: 42 | C68: 2 | D68: 4 | E68: 3 | F68: =B68*E68 -> 126 | G68: =F68/12 -> 10.5 | H68: =G68/8 -> 1.3125 | I68: =G68/10 -> 1.05
A69: LEG BRACE FRONT | B69: 45 | C69: 2 | D69: 4 | E69: 1 | F69: =B69*E69 -> 45 | G69: =F69/12 -> 3.75 | H69: =G69/8 -> 0.46875 | I69: =G69/10 -> 0.375
A70: SEAT | B70: 48 | C70: 2 | D70: 6 | E70: 2 | F70: =B70*E70 -> 96 | G70: =F70/12 -> 8 | H70: =G70/8 -> 1 | I70: =G70/10 -> 0.8 | K70: 2X6X8
A71: SEAT | B71: 48 | C71: 2 | D71: 8 | E71: 1 | F71: =B71*E71 -> 48 | G71: =F71/12 -> 4 | H71: =G71/8 -> 0.5 | I71: =G71/10 -> 0.4 | K71: 2X8X8
A72: BACK | B72: 48 | C72: 2 | D72: 10 | E72: 1 | F72: =B72*E72 -> 48 | G72: =F72/12 -> 4 | H72: =G72/8 -> 0.5 | I72: =G72/10 -> 0.4 | K72: 2X8X10
B73: LUMBER NEEDED
B74: WxH | F74: TOTAL INCHES | G74: FEET | H74: /8 | I74: /10 | J74: QTY | K74: LUMBER REQUIRED
B75: 4x4 | F75: =F66 -> 66 | G75: =F75/12 -> 5.5 | H75: =G75/8 -> 0.6875 | I75: =G75/10 -> 0.55 | J75: 1 | K75: 4x4x6
B76: 2x10 | F76: =F72 -> 48 | G76: =F76/12 -> 4 | H76: =G76/8 -> 0.5 | I76: =G76/10 -> 0.4 | J76: 0.5 | K76: 2x10x8
B77: 2x4 | F77: =F69+F68+F67 -> 267 | G77: =F77/12 -> 22.25 | H77: =G77/8 -> 2.78125 | I77: =G77/10 -> 2.225 | J77: 3 | K77: 2x4x8
B78: 2x6 | F78: =F70 -> 96 | G78: =F78/12 -> 8 | H78: =G78/8 -> 1 | I78: =G78/10 -> 0.8 | J78: 1 | K78: 2x6x8
B79: 2x10 | F79: =F71 -> 48 | G79: =F79/12 -> 4 | H79: =G79/8 -> 0.5 | I79: =G79/10 -> 0.4 | J79: 0.5 | K79: 2x8x8
K80: =SUM(E65:E72)*2 -> 36 | L80: 3" SCREWS
A81: BENCH 4' without back
B82: LEGS
A83: LEGS | B83: 16.5 | C83: 4 | D83: 4 | E83: 4 | F83: =B83*E83 -> 66 | G83: 4x4
A84: LEG BRACE SIDES | B84: 16 | C84: 2 | D84: 4 | E84: 6 | F84: =B84*E84 -> 96 | G84: 2x4
A85: LEG BRACE BACK | B85: 42 | C85: 2 | D85: 4 | E85: 3 | F85: =B85*E85 -> 126
A86: LEG BRACE FRONT | B86: 45 | C86: 2 | D86: 4 | E86: 1 | F86: =B86*E86 -> 45
A87: SEAT | B87: 48 | C87: 2 | D87: 6 | E87: 2 | F87: =B87*E87 -> 96 | G87: 2X6X8
A88: SEAT | B88: 48 | C88: 2 | D88: 8 | E88: 1 | F88: =B88*E88 -> 48 | G88: 2X8X8
B89: LUMBER NEEDED
B90: WxH | F90: TOTAL INCHES | G90: FEET | H90: /8 | I90: /10 | J90: QTY | K90: LUMBER REQUIRED
B91: 4x4 | F91: =F83 -> 66 | G91: =F91/12 -> 5.5 | H91: =G91/8 -> 0.6875 | I91: =G91/10 -> 0.55 | J91: 1 | K91: 4x4x6
B92: 2x4 | F92: =F86+F85+F84 -> 267 | G92: =F92/12 -> 22.25 | H92: =G92/8 -> 2.78125 | I92: =G92/10 -> 2.225 | J92: 3 | K92: 2x4x8
B93: 2x6 | F93: =F87 -> 96 | G93: =F93/12 -> 8 | H93: =G93/8 -> 1 | I93: =G93/10 -> 0.8 | J93: 1 | K93: 2x6x8
B94: 2x8 | F94: =F88 -> 48 | G94: =F94/12 -> 4 | H94: =G94/8 -> 0.5 | I94: =G94/10 -> 0.4 | J94: 0.5 | K94: 2x8x8
K95: =SUM(E81:E88)*2 -> 34 | L95: 3" SCREWS
A96: STAGE 16' | G96: FEET | H96: /8 | I96: /10 | J96: /12
A97: TOP | B97: 46 | C97: 1 | D97: 6 | E97: 35 | F97: =B97*E97 -> 1610 | G97: =F97/12 -> 134.16667 | H97: =G97/8 -> 16.770833 | I97: =G97/10 -> 13.416667 | J97: =G97/12 -> 11.180556
A98: SIDES LONG | B98: =12*16 -> 192 | C98: 1 | D98: 6 | E98: 6 | F98: =B98*E98 -> 1152 | G98: =F98/12 -> 96 | H98: =G98/8 -> 12 | I98: =G98/10 -> 9.6 | J98: =G98/12 -> 8
A99: SIDES SHORT | B99: 46 | C99: 1 | D99: 6 | E99: 6 | F99: =B99*E99 -> 276 | G99: =F99/12 -> 23 | H99: =G99/8 -> 2.875 | I99: =G99/10 -> 2.3 | J99: =G99/12 -> 1.9166667
A100: LONG JOISTS/BRACING | B100: 190 | C100: 2 | D100: 4 | E100: 3 | F100: =B100*E100 -> 570 | G100: =F100/12 -> 47.5 | H100: =G100/8 -> 5.9375 | I100: =G100/10 -> 4.75 | J100: =G100/12 -> 3.9583333
A101: LEGS | B101: 18 | C101: 4 | D101: 4 | E101: 10 | F101: =B101*E101 -> 180 | G101: =F101/12 -> 15 | H101: =G101/8 -> 1.875 | I101: =G101/10 -> 1.5 | J101: =G101/12 -> 1.25
A102: CROSS BRACING | B102: 17 | C102: 2 | D102: 4 | E102: 6 | F102: =B102*E102 -> 102 | G102: =F102/12 -> 8.5 | H102: =G102/8 -> 1.0625 | I102: =G102/10 -> 0.85 | J102: =G102/12 -> 0.70833333
B103: LUMBER NEEDED
B104: WxH | F104: TOTAL INCHES | G104: FEET | H104: /8 | I104: /10 | J104: /12 | K104: /16 | L104: QTY | M104: LUMBER REQUIRED
B105: 1x6 | F105: =F98+F99+F100 -> 1998 | G105: =F105/12 -> 166.5 | H105: =G105/8 -> 20.8125 | I105: =G105/10 -> 16.65 | J105: =G105/12 -> 13.875 | K105: =G105/16 -> 10.40625 | L105: 6 | M105: 1x6x16
B106: 2x4 | F106: =F100 -> 570 | G106: =F106/12 -> 47.5 | H106: =G106/8 -> 5.9375 | I106: =G106/10 -> 4.75 | J106: =G106/12 -> 3.9583333 | K106: =G106/16 -> 2.96875 | L106: 3 | M106: 2x4x16
B107: 4x4 | F107: =F101 -> 180 | G107: =F107/12 -> 15 | H107: =G107/8 -> 1.875 | I107: =G107/10 -> 1.5 | J107: =G107/12 -> 1.25 | K107: =G107/16 -> 0.9375 | L107: 2 | M107: 4x4x8
B108: 2x4 | F108: =F102 -> 102 | G108: =F108/12 -> 8.5 | H108: =G108/8 -> 1.0625 | I108: =G108/10 -> 0.85 | J108: =G108/12 -> 0.70833333 | K108: =G108/16 -> 0.53125 | L108: 1 | M108: 2x4x10
A110: STAGE 12' | G110: FEET | H110: /8 | I110: /10 | J110: /12
A111: TOP | B111: 46 | C111: 1 | D111: 6 | E111: 25 | F111: =B111*E111 -> 1150 | G111: =F111/12 -> 95.833333 | H111: =G111/8 -> 11.979167 | I111: =G111/10 -> 9.5833333 | J111: =G111/12 -> 7.9861111
A112: SIDES LONG | B112: =12*12 -> 144 | C112: 1 | D112: 6 | E112: 6 | F112: =B112*E112 -> 864 | G112: =F112/12 -> 72 | H112: =G112/8 -> 9 | I112: =G112/10 -> 7.2 | J112: =G112/12 -> 6
A113: SIDES SHORT | B113: 46 | C113: 1 | D113: 6 | E113: 6 | F113: =B113*E113 -> 276 | G113: =F113/12 -> 23 | H113: =G113/8 -> 2.875 | I113: =G113/10 -> 2.3 | J113: =G113/12 -> 1.9166667
A114: LONG JOISTS/BRACING | B114: 142 | C114: 2 | D114: 4 | E114: 3 | F114: =B114*E114 -> 426 | G114: =F114/12 -> 35.5 | H114: =G114/8 -> 4.4375 | I114: =G114/10 -> 3.55 | J114: =G114/12 -> 2.9583333
A115: LEGS | B115: 18 | C115: 4 | D115: 4 | E115: 8 | F115: =B115*E115 -> 144 | G115: =F115/12 -> 12 | H115: =G115/8 -> 1.5 | I115: =G115/10 -> 1.2 | J115: =G115/12 -> 1
A116: CROSS BRACING | B116: 17 | C116: 2 | D116: 4 | E116: 4 | F116: =B116*E116 -> 68 | G116: =F116/12 -> 5.6666667 | H116: =G116/8 -> 0.70833333 | I116: =G116/10 -> 0.56666667 | J116: =G116/12 -> 0.47222222
B117: LUMBER NEEDED
B118: WxH | F118: TOTAL INCHES | G118: FEET | H118: /8 | I118: /10 | J118: /12 | L118: QTY | M118: LUMBER REQUIRED
B119: 1x6 | F119: =F111+F113+F112 -> 2290 | G119: =F119/12 -> 190.83333 | H119: =G119/8 -> 23.854167 | I119: =G119/10 -> 19.083333 | J119: =G119/12 -> 15.902778 | L119: 16 | M119: 1x6x12
...

Sheet Sheet5
